	
BEGIN:VCALENDAR
VERSION:2.0
PRODID:-//Cruis&#039;n Media - ECPv6.15.20//NONSGML v1.0//EN
CALSCALE:GREGORIAN
METHOD:PUBLISH
X-ORIGINAL-URL:https://cruisnmedia.com
X-WR-CALDESC:Events for Cruis&#039;n Media
REFRESH-INTERVAL;VALUE=DURATION:PT1H
X-Robots-Tag:noindex
X-PUBLISHED-TTL:PT1H
BEGIN:VTIMEZONE
TZID:America/Detroit
BEGIN:DAYLIGHT
TZOFFSETFROM:-0500
TZOFFSETTO:-0400
TZNAME:EDT
DTSTART:20250309T070000
END:DAYLIGHT
BEGIN:STANDARD
TZOFFSETFROM:-0400
TZOFFSETTO:-0500
TZNAME:EST
DTSTART:20251102T060000
END:STANDARD
BEGIN:DAYLIGHT
TZOFFSETFROM:-0500
TZOFFSETTO:-0400
TZNAME:EDT
DTSTART:20260308T070000
END:DAYLIGHT
BEGIN:STANDARD
TZOFFSETFROM:-0400
TZOFFSETTO:-0500
TZNAME:EST
DTSTART:20261101T060000
END:STANDARD
BEGIN:DAYLIGHT
TZOFFSETFROM:-0500
TZOFFSETTO:-0400
TZNAME:EDT
DTSTART:20270314T070000
END:DAYLIGHT
BEGIN:STANDARD
TZOFFSETFROM:-0400
TZOFFSETTO:-0500
TZNAME:EST
DTSTART:20271107T060000
END:STANDARD
END:VTIMEZONE
BEGIN:VEVENT
DTSTART;TZID=America/Detroit:20260525T110000
DTEND;TZID=America/Detroit:20260525T170000
DTSTAMP:20260419T154033
CREATED:20260410T165821Z
LAST-MODIFIED:20260410T165821Z
UID:10009374-1779706800-1779728400@cruisnmedia.com
SUMMARY:Hartland Village Memorial Day Parade and Car Show
DESCRIPTION:Hey Car Enthusiasts\, Want to show off your vehicle in a parade\, seen by 5000 people and be a part of the Memorial Day Veterans Celebration in the Village of Hartland\, MI? This is the inaugural event for the car show\, but the 91st Veterans Commemoration parade and observance of Memorial Day. There is no registration fee and vehicles line up at Ore Creek Middle School ( 3250 Hartland Rd. Hartland MI\, 48353 )at 11:00 AM. The parade will start at 12:00 noon and proceed through the village of Hartland. The parade will end at Village Elementary School/ Epley Park\, where judging and staging will take place. Refreshments and food will be available to purchase at the park. A live band will provide the perfect backdrop for all the fun\, so come one\, come all and enjoy a perfect May afternoon\, commemorating our veterans. Event sponsored by the Hartland Area Community Council \nFor more information\, contact (810) 599-6347
URL:https://cruisnmedia.com/events-calendar/hartland-village-memorial-day-parade-and-car-show/
LOCATION:VIllage Elementary School\, 10632 Hibner\, Hartland\, MI\, 48353
ATTACH;FMTTYPE=image/jpeg:https://cruisnmedia.com/wp-content/uploads/2026/04/1775839657692-d15f55a6-d11c-4001-b3bc-bc5b8335a9ba_1.jpg
END:VEVENT
END:VCALENDAR