	
BEGIN:VCALENDAR
VERSION:2.0
PRODID:-//Cruis&#039;n Media - ECPv6.15.20//NONSGML v1.0//EN
CALSCALE:GREGORIAN
METHOD:PUBLISH
X-WR-CALNAME:Cruis&#039;n Media
X-ORIGINAL-URL:https://cruisnmedia.com
X-WR-CALDESC:Events for Cruis&#039;n Media
REFRESH-INTERVAL;VALUE=DURATION:PT1H
X-Robots-Tag:noindex
X-PUBLISHED-TTL:PT1H
BEGIN:VTIMEZONE
TZID:America/Detroit
BEGIN:DAYLIGHT
TZOFFSETFROM:-0500
TZOFFSETTO:-0400
TZNAME:EDT
DTSTART:20240310T070000
END:DAYLIGHT
BEGIN:STANDARD
TZOFFSETFROM:-0400
TZOFFSETTO:-0500
TZNAME:EST
DTSTART:20241103T060000
END:STANDARD
BEGIN:DAYLIGHT
TZOFFSETFROM:-0500
TZOFFSETTO:-0400
TZNAME:EDT
DTSTART:20250309T070000
END:DAYLIGHT
BEGIN:STANDARD
TZOFFSETFROM:-0400
TZOFFSETTO:-0500
TZNAME:EST
DTSTART:20251102T060000
END:STANDARD
BEGIN:DAYLIGHT
TZOFFSETFROM:-0500
TZOFFSETTO:-0400
TZNAME:EDT
DTSTART:20260308T070000
END:DAYLIGHT
BEGIN:STANDARD
TZOFFSETFROM:-0400
TZOFFSETTO:-0500
TZNAME:EST
DTSTART:20261101T060000
END:STANDARD
END:VTIMEZONE
BEGIN:VEVENT
DTSTART;VALUE=DATE:20250621
DTEND;VALUE=DATE:20250622
DTSTAMP:20260421T060113
CREATED:20250619T141633Z
LAST-MODIFIED:20250619T141633Z
UID:10007481-1750492800-1750525200@cruisnmedia.com
SUMMARY:Northwoods Motor Mayhem
DESCRIPTION:For more information\, contact northwoodsmotormayhem@gmail.com or visit https://northwoodsmotormayhem.com/?fbclid=IwY2xjawLA-wtleHRuA2FlbQIxMABicmlkETFCYzdDdFdZUENYNDFpYW1JAR5NZPvYh8qP5mFMKRHz7gGZDZhIDfZN_dKZU9R0MOvNpha5dF9wAZX4Wtr2IQ_aem_J_Nw3q4BnN6jqoN1jvLSJg
URL:https://cruisnmedia.com/events-calendar/northwoods-motor-mayhem-2/2025-06-21/
LOCATION:Up State Fairgrounds\, 2401 12th Ave N\, Escanaba\, MI
ATTACH;FMTTYPE=image/png:https://cruisnmedia.com/wp-content/uploads/2025/06/Screenshot-2025-06-19-101407.png
END:VEVENT
BEGIN:VEVENT
DTSTART;VALUE=DATE:20250620
DTEND;VALUE=DATE:20250621
DTSTAMP:20260421T060113
CREATED:20250619T141633Z
LAST-MODIFIED:20250619T141633Z
UID:10007480-1750377600-1750463999@cruisnmedia.com
SUMMARY:Northwoods Motor Mayhem
DESCRIPTION:For more information\, contact northwoodsmotormayhem@gmail.com or visit https://northwoodsmotormayhem.com/?fbclid=IwY2xjawLA-wtleHRuA2FlbQIxMABicmlkETFCYzdDdFdZUENYNDFpYW1JAR5NZPvYh8qP5mFMKRHz7gGZDZhIDfZN_dKZU9R0MOvNpha5dF9wAZX4Wtr2IQ_aem_J_Nw3q4BnN6jqoN1jvLSJg
URL:https://cruisnmedia.com/events-calendar/northwoods-motor-mayhem-2/2025-06-20/
LOCATION:Up State Fairgrounds\, 2401 12th Ave N\, Escanaba\, MI
ATTACH;FMTTYPE=image/png:https://cruisnmedia.com/wp-content/uploads/2025/06/Screenshot-2025-06-19-101407.png
END:VEVENT
END:VCALENDAR