	
BEGIN:VCALENDAR
VERSION:2.0
PRODID:-//Cruis&#039;n Media - ECPv6.15.20//NONSGML v1.0//EN
CALSCALE:GREGORIAN
METHOD:PUBLISH
X-WR-CALNAME:Cruis&#039;n Media
X-ORIGINAL-URL:https://cruisnmedia.com
X-WR-CALDESC:Events for Cruis&#039;n Media
REFRESH-INTERVAL;VALUE=DURATION:PT1H
X-Robots-Tag:noindex
X-PUBLISHED-TTL:PT1H
BEGIN:VTIMEZONE
TZID:America/Detroit
BEGIN:DAYLIGHT
TZOFFSETFROM:-0500
TZOFFSETTO:-0400
TZNAME:EDT
DTSTART:20240310T070000
END:DAYLIGHT
BEGIN:STANDARD
TZOFFSETFROM:-0400
TZOFFSETTO:-0500
TZNAME:EST
DTSTART:20241103T060000
END:STANDARD
BEGIN:DAYLIGHT
TZOFFSETFROM:-0500
TZOFFSETTO:-0400
TZNAME:EDT
DTSTART:20250309T070000
END:DAYLIGHT
BEGIN:STANDARD
TZOFFSETFROM:-0400
TZOFFSETTO:-0500
TZNAME:EST
DTSTART:20251102T060000
END:STANDARD
BEGIN:DAYLIGHT
TZOFFSETFROM:-0500
TZOFFSETTO:-0400
TZNAME:EDT
DTSTART:20260308T070000
END:DAYLIGHT
BEGIN:STANDARD
TZOFFSETFROM:-0400
TZOFFSETTO:-0500
TZNAME:EST
DTSTART:20261101T060000
END:STANDARD
END:VTIMEZONE
BEGIN:VEVENT
DTSTART;TZID=America/Detroit:20251004T150000
DTEND;TZID=America/Detroit:20251004T200000
DTSTAMP:20260420T050332
CREATED:20250922T172127Z
LAST-MODIFIED:20250922T172127Z
UID:10007601-1759590000-1759608000@cruisnmedia.com
SUMMARY:Unity over Division Rideout
DESCRIPTION:For more information\, visit https://www.facebook.com/tamara.l.smith.73/photos/-community-violence-intervention-collective-partners-auto-council-presents-stop-/25562929749963969/
URL:https://cruisnmedia.com/events-calendar/unity-over-division-rideout/
LOCATION:Rouge Park to Belle Isle\, Detroit\, MI
ATTACH;FMTTYPE=image/jpeg:https://cruisnmedia.com/wp-content/uploads/2025/09/thumbnail_IMG_0500.jpg
END:VEVENT
END:VCALENDAR