	
BEGIN:VCALENDAR
VERSION:2.0
PRODID:-//Cruis&#039;n Media - ECPv6.15.20//NONSGML v1.0//EN
CALSCALE:GREGORIAN
METHOD:PUBLISH
X-WR-CALNAME:Cruis&#039;n Media
X-ORIGINAL-URL:https://cruisnmedia.com
X-WR-CALDESC:Events for Cruis&#039;n Media
REFRESH-INTERVAL;VALUE=DURATION:PT1H
X-Robots-Tag:noindex
X-PUBLISHED-TTL:PT1H
BEGIN:VTIMEZONE
TZID:America/Detroit
BEGIN:DAYLIGHT
TZOFFSETFROM:-0500
TZOFFSETTO:-0400
TZNAME:EDT
DTSTART:20240310T070000
END:DAYLIGHT
BEGIN:STANDARD
TZOFFSETFROM:-0400
TZOFFSETTO:-0500
TZNAME:EST
DTSTART:20241103T060000
END:STANDARD
BEGIN:DAYLIGHT
TZOFFSETFROM:-0500
TZOFFSETTO:-0400
TZNAME:EDT
DTSTART:20250309T070000
END:DAYLIGHT
BEGIN:STANDARD
TZOFFSETFROM:-0400
TZOFFSETTO:-0500
TZNAME:EST
DTSTART:20251102T060000
END:STANDARD
BEGIN:DAYLIGHT
TZOFFSETFROM:-0500
TZOFFSETTO:-0400
TZNAME:EDT
DTSTART:20260308T070000
END:DAYLIGHT
BEGIN:STANDARD
TZOFFSETFROM:-0400
TZOFFSETTO:-0500
TZNAME:EST
DTSTART:20261101T060000
END:STANDARD
END:VTIMEZONE
BEGIN:VEVENT
DTSTART;TZID=America/Detroit:20250607T100000
DTEND;TZID=America/Detroit:20250607T160000
DTSTAMP:20260420T092429
CREATED:20250212T213243Z
LAST-MODIFIED:20250212T213243Z
UID:10005446-1749290400-1749312000@cruisnmedia.com
SUMMARY:Radicals Summer Event
DESCRIPTION:kick off the summer with the Radicals. car show\, burnouts\, kids events. 5 acre private home. Hand made custom trophies. Custom yard art for raffle. Private event for all my friends read this you’re invited. Please make a twenty dollar donation per car upon entering. We will also have some great Home Cooked food plates. \nFor more information contact joeromeo64@gmail.com
URL:https://cruisnmedia.com/events-calendar/radicals-summer-event/
LOCATION:Radical Romeos\, 8969 Hyne Rd\, Brighton\, MI
ATTACH;FMTTYPE=image/jpeg:https://cruisnmedia.com/wp-content/uploads/2025/02/476233314_2141766982946259_5938828636320428922_n.jpg
END:VEVENT
END:VCALENDAR