	
BEGIN:VCALENDAR
VERSION:2.0
PRODID:-//Cruis&#039;n Media - ECPv6.15.20//NONSGML v1.0//EN
CALSCALE:GREGORIAN
METHOD:PUBLISH
X-ORIGINAL-URL:https://cruisnmedia.com
X-WR-CALDESC:Events for Cruis&#039;n Media
REFRESH-INTERVAL;VALUE=DURATION:PT1H
X-Robots-Tag:noindex
X-PUBLISHED-TTL:PT1H
BEGIN:VTIMEZONE
TZID:America/Detroit
BEGIN:DAYLIGHT
TZOFFSETFROM:-0500
TZOFFSETTO:-0400
TZNAME:EDT
DTSTART:20240310T070000
END:DAYLIGHT
BEGIN:STANDARD
TZOFFSETFROM:-0400
TZOFFSETTO:-0500
TZNAME:EST
DTSTART:20241103T060000
END:STANDARD
BEGIN:DAYLIGHT
TZOFFSETFROM:-0500
TZOFFSETTO:-0400
TZNAME:EDT
DTSTART:20250309T070000
END:DAYLIGHT
BEGIN:STANDARD
TZOFFSETFROM:-0400
TZOFFSETTO:-0500
TZNAME:EST
DTSTART:20251102T060000
END:STANDARD
BEGIN:DAYLIGHT
TZOFFSETFROM:-0500
TZOFFSETTO:-0400
TZNAME:EDT
DTSTART:20260308T070000
END:DAYLIGHT
BEGIN:STANDARD
TZOFFSETFROM:-0400
TZOFFSETTO:-0500
TZNAME:EST
DTSTART:20261101T060000
END:STANDARD
END:VTIMEZONE
BEGIN:VEVENT
DTSTART;TZID=America/Detroit:20250801T170000
DTEND;TZID=America/Detroit:20250801T200000
DTSTAMP:20260420T113617
CREATED:20250625T140821Z
LAST-MODIFIED:20250625T140821Z
UID:10007486-1754067600-1754078400@cruisnmedia.com
SUMMARY:Prefix Family Fun Run & Car Show
DESCRIPTION:The 2nd Annual Prefix 5K Family Fun Run and Car Show is coming up on Friday\, August 1st. As you know\, this event is to benefit our 2025 C3 Initiative partner\, HAVEN of Oakland County. I’ve attached some information on this year’s event\, which will feature: \n  \n• 5K and 1 mile run/walk courses on the Clinton River Trail\, with awards for the top 5K male/female.\n• Car show\, with category awards\n• BBQ food truck\, Messy Ace’s Ribshack\n• Ice cream truck\n• Beer tent\n• LIVE BAND (new this year) – Hounds of Hadley\n• 50/50 Raffle \n  \nContact 5K@prefix.com for more information
URL:https://cruisnmedia.com/events-calendar/prefix-family-fun-run-car-show/
LOCATION:Prefix Corporation\, 1400 S Livernois Rd\, Rochester Hills\, MI
ATTACH;FMTTYPE=image/jpeg:https://cruisnmedia.com/wp-content/uploads/2025/06/CAR-SHOW-INFORMATION.jpg
END:VEVENT
END:VCALENDAR