	
BEGIN:VCALENDAR
VERSION:2.0
PRODID:-//Cruis&#039;n Media - ECPv6.15.20//NONSGML v1.0//EN
CALSCALE:GREGORIAN
METHOD:PUBLISH
X-WR-CALNAME:Cruis&#039;n Media
X-ORIGINAL-URL:https://cruisnmedia.com
X-WR-CALDESC:Events for Cruis&#039;n Media
REFRESH-INTERVAL;VALUE=DURATION:PT1H
X-Robots-Tag:noindex
X-PUBLISHED-TTL:PT1H
BEGIN:VTIMEZONE
TZID:America/Detroit
BEGIN:DAYLIGHT
TZOFFSETFROM:-0500
TZOFFSETTO:-0400
TZNAME:EDT
DTSTART:20250309T070000
END:DAYLIGHT
BEGIN:STANDARD
TZOFFSETFROM:-0400
TZOFFSETTO:-0500
TZNAME:EST
DTSTART:20251102T060000
END:STANDARD
BEGIN:DAYLIGHT
TZOFFSETFROM:-0500
TZOFFSETTO:-0400
TZNAME:EDT
DTSTART:20260308T070000
END:DAYLIGHT
BEGIN:STANDARD
TZOFFSETFROM:-0400
TZOFFSETTO:-0500
TZNAME:EST
DTSTART:20261101T060000
END:STANDARD
BEGIN:DAYLIGHT
TZOFFSETFROM:-0500
TZOFFSETTO:-0400
TZNAME:EDT
DTSTART:20270314T070000
END:DAYLIGHT
BEGIN:STANDARD
TZOFFSETFROM:-0400
TZOFFSETTO:-0500
TZNAME:EST
DTSTART:20271107T060000
END:STANDARD
END:VTIMEZONE
BEGIN:VEVENT
DTSTART;TZID=America/Detroit:20260504T170000
DTEND;TZID=America/Detroit:20260504T210000
DTSTAMP:20260421T061040
CREATED:20260319T204800Z
LAST-MODIFIED:20260319T204800Z
UID:10008418-1777914000-1777928400@cruisnmedia.com
SUMMARY:Memories in Motion
DESCRIPTION:
URL:https://cruisnmedia.com/events-calendar/memories-in-motion/2026-05-04/
LOCATION:Olympic Coney Island\, 7011 Wayne Rd\, Westland\, MI\, United States
END:VEVENT
BEGIN:VEVENT
DTSTART;TZID=America/Detroit:20260511T170000
DTEND;TZID=America/Detroit:20260511T210000
DTSTAMP:20260421T061040
CREATED:20260319T204800Z
LAST-MODIFIED:20260319T204800Z
UID:10008419-1778518800-1778533200@cruisnmedia.com
SUMMARY:Memories in Motion
DESCRIPTION:
URL:https://cruisnmedia.com/events-calendar/memories-in-motion/2026-05-11/
LOCATION:Olympic Coney Island\, 7011 Wayne Rd\, Westland\, MI\, United States
END:VEVENT
BEGIN:VEVENT
DTSTART;TZID=America/Detroit:20260518T170000
DTEND;TZID=America/Detroit:20260518T210000
DTSTAMP:20260421T061040
CREATED:20260319T204800Z
LAST-MODIFIED:20260319T204800Z
UID:10008420-1779123600-1779138000@cruisnmedia.com
SUMMARY:Memories in Motion
DESCRIPTION:
URL:https://cruisnmedia.com/events-calendar/memories-in-motion/2026-05-18/
LOCATION:Olympic Coney Island\, 7011 Wayne Rd\, Westland\, MI\, United States
END:VEVENT
BEGIN:VEVENT
DTSTART;TZID=America/Detroit:20260525T170000
DTEND;TZID=America/Detroit:20260525T210000
DTSTAMP:20260421T061040
CREATED:20260319T204800Z
LAST-MODIFIED:20260319T204800Z
UID:10008421-1779728400-1779742800@cruisnmedia.com
SUMMARY:Memories in Motion
DESCRIPTION:
URL:https://cruisnmedia.com/events-calendar/memories-in-motion/2026-05-25/
LOCATION:Olympic Coney Island\, 7011 Wayne Rd\, Westland\, MI\, United States
END:VEVENT
BEGIN:VEVENT
DTSTART;TZID=America/Detroit:20260601T170000
DTEND;TZID=America/Detroit:20260601T210000
DTSTAMP:20260421T061040
CREATED:20260319T204800Z
LAST-MODIFIED:20260319T204800Z
UID:10008422-1780333200-1780347600@cruisnmedia.com
SUMMARY:Memories in Motion
DESCRIPTION:
URL:https://cruisnmedia.com/events-calendar/memories-in-motion/2026-06-01/
LOCATION:Olympic Coney Island\, 7011 Wayne Rd\, Westland\, MI\, United States
END:VEVENT
BEGIN:VEVENT
DTSTART;TZID=America/Detroit:20260608T170000
DTEND;TZID=America/Detroit:20260608T210000
DTSTAMP:20260421T061040
CREATED:20260319T204800Z
LAST-MODIFIED:20260319T204800Z
UID:10008423-1780938000-1780952400@cruisnmedia.com
SUMMARY:Memories in Motion
DESCRIPTION:
URL:https://cruisnmedia.com/events-calendar/memories-in-motion/2026-06-08/
LOCATION:Olympic Coney Island\, 7011 Wayne Rd\, Westland\, MI\, United States
END:VEVENT
BEGIN:VEVENT
DTSTART;TZID=America/Detroit:20260615T170000
DTEND;TZID=America/Detroit:20260615T210000
DTSTAMP:20260421T061040
CREATED:20260319T204800Z
LAST-MODIFIED:20260319T204800Z
UID:10008424-1781542800-1781557200@cruisnmedia.com
SUMMARY:Memories in Motion
DESCRIPTION:
URL:https://cruisnmedia.com/events-calendar/memories-in-motion/2026-06-15/
LOCATION:Olympic Coney Island\, 7011 Wayne Rd\, Westland\, MI\, United States
END:VEVENT
BEGIN:VEVENT
DTSTART;TZID=America/Detroit:20260622T170000
DTEND;TZID=America/Detroit:20260622T210000
DTSTAMP:20260421T061040
CREATED:20260319T204800Z
LAST-MODIFIED:20260319T204800Z
UID:10008425-1782147600-1782162000@cruisnmedia.com
SUMMARY:Memories in Motion
DESCRIPTION:
URL:https://cruisnmedia.com/events-calendar/memories-in-motion/2026-06-22/
LOCATION:Olympic Coney Island\, 7011 Wayne Rd\, Westland\, MI\, United States
END:VEVENT
BEGIN:VEVENT
DTSTART;TZID=America/Detroit:20260629T170000
DTEND;TZID=America/Detroit:20260629T210000
DTSTAMP:20260421T061040
CREATED:20260319T204800Z
LAST-MODIFIED:20260319T204800Z
UID:10008426-1782752400-1782766800@cruisnmedia.com
SUMMARY:Memories in Motion
DESCRIPTION:
URL:https://cruisnmedia.com/events-calendar/memories-in-motion/2026-06-29/
LOCATION:Olympic Coney Island\, 7011 Wayne Rd\, Westland\, MI\, United States
END:VEVENT
BEGIN:VEVENT
DTSTART;TZID=America/Detroit:20260706T170000
DTEND;TZID=America/Detroit:20260706T210000
DTSTAMP:20260421T061040
CREATED:20260319T204800Z
LAST-MODIFIED:20260319T204800Z
UID:10008427-1783357200-1783371600@cruisnmedia.com
SUMMARY:Memories in Motion
DESCRIPTION:
URL:https://cruisnmedia.com/events-calendar/memories-in-motion/2026-07-06/
LOCATION:Olympic Coney Island\, 7011 Wayne Rd\, Westland\, MI\, United States
END:VEVENT
BEGIN:VEVENT
DTSTART;TZID=America/Detroit:20260713T170000
DTEND;TZID=America/Detroit:20260713T210000
DTSTAMP:20260421T061040
CREATED:20260319T204800Z
LAST-MODIFIED:20260319T204800Z
UID:10008428-1783962000-1783976400@cruisnmedia.com
SUMMARY:Memories in Motion
DESCRIPTION:
URL:https://cruisnmedia.com/events-calendar/memories-in-motion/2026-07-13/
LOCATION:Olympic Coney Island\, 7011 Wayne Rd\, Westland\, MI\, United States
END:VEVENT
BEGIN:VEVENT
DTSTART;TZID=America/Detroit:20260720T170000
DTEND;TZID=America/Detroit:20260720T210000
DTSTAMP:20260421T061040
CREATED:20260319T204800Z
LAST-MODIFIED:20260319T204800Z
UID:10008429-1784566800-1784581200@cruisnmedia.com
SUMMARY:Memories in Motion
DESCRIPTION:
URL:https://cruisnmedia.com/events-calendar/memories-in-motion/2026-07-20/
LOCATION:Olympic Coney Island\, 7011 Wayne Rd\, Westland\, MI\, United States
END:VEVENT
BEGIN:VEVENT
DTSTART;TZID=America/Detroit:20260727T170000
DTEND;TZID=America/Detroit:20260727T210000
DTSTAMP:20260421T061040
CREATED:20260319T204800Z
LAST-MODIFIED:20260319T204800Z
UID:10008430-1785171600-1785186000@cruisnmedia.com
SUMMARY:Memories in Motion
DESCRIPTION:
URL:https://cruisnmedia.com/events-calendar/memories-in-motion/2026-07-27/
LOCATION:Olympic Coney Island\, 7011 Wayne Rd\, Westland\, MI\, United States
END:VEVENT
BEGIN:VEVENT
DTSTART;TZID=America/Detroit:20260803T170000
DTEND;TZID=America/Detroit:20260803T210000
DTSTAMP:20260421T061040
CREATED:20260319T204800Z
LAST-MODIFIED:20260319T204800Z
UID:10008431-1785776400-1785790800@cruisnmedia.com
SUMMARY:Memories in Motion
DESCRIPTION:
URL:https://cruisnmedia.com/events-calendar/memories-in-motion/2026-08-03/
LOCATION:Olympic Coney Island\, 7011 Wayne Rd\, Westland\, MI\, United States
END:VEVENT
BEGIN:VEVENT
DTSTART;TZID=America/Detroit:20260810T170000
DTEND;TZID=America/Detroit:20260810T210000
DTSTAMP:20260421T061040
CREATED:20260319T204800Z
LAST-MODIFIED:20260319T204800Z
UID:10008432-1786381200-1786395600@cruisnmedia.com
SUMMARY:Memories in Motion
DESCRIPTION:
URL:https://cruisnmedia.com/events-calendar/memories-in-motion/2026-08-10/
LOCATION:Olympic Coney Island\, 7011 Wayne Rd\, Westland\, MI\, United States
END:VEVENT
BEGIN:VEVENT
DTSTART;TZID=America/Detroit:20260817T170000
DTEND;TZID=America/Detroit:20260817T210000
DTSTAMP:20260421T061040
CREATED:20260319T204800Z
LAST-MODIFIED:20260319T204800Z
UID:10008433-1786986000-1787000400@cruisnmedia.com
SUMMARY:Memories in Motion
DESCRIPTION:
URL:https://cruisnmedia.com/events-calendar/memories-in-motion/2026-08-17/
LOCATION:Olympic Coney Island\, 7011 Wayne Rd\, Westland\, MI\, United States
END:VEVENT
BEGIN:VEVENT
DTSTART;TZID=America/Detroit:20260824T170000
DTEND;TZID=America/Detroit:20260824T210000
DTSTAMP:20260421T061040
CREATED:20260319T204800Z
LAST-MODIFIED:20260319T204800Z
UID:10008434-1787590800-1787605200@cruisnmedia.com
SUMMARY:Memories in Motion
DESCRIPTION:
URL:https://cruisnmedia.com/events-calendar/memories-in-motion/2026-08-24/
LOCATION:Olympic Coney Island\, 7011 Wayne Rd\, Westland\, MI\, United States
END:VEVENT
BEGIN:VEVENT
DTSTART;TZID=America/Detroit:20260831T170000
DTEND;TZID=America/Detroit:20260831T210000
DTSTAMP:20260421T061040
CREATED:20260319T204800Z
LAST-MODIFIED:20260319T204800Z
UID:10008435-1788195600-1788210000@cruisnmedia.com
SUMMARY:Memories in Motion
DESCRIPTION:
URL:https://cruisnmedia.com/events-calendar/memories-in-motion/2026-08-31/
LOCATION:Olympic Coney Island\, 7011 Wayne Rd\, Westland\, MI\, United States
END:VEVENT
BEGIN:VEVENT
DTSTART;TZID=America/Detroit:20260907T170000
DTEND;TZID=America/Detroit:20260907T210000
DTSTAMP:20260421T061040
CREATED:20260319T204800Z
LAST-MODIFIED:20260319T204800Z
UID:10008436-1788800400-1788814800@cruisnmedia.com
SUMMARY:Memories in Motion
DESCRIPTION:
URL:https://cruisnmedia.com/events-calendar/memories-in-motion/2026-09-07/
LOCATION:Olympic Coney Island\, 7011 Wayne Rd\, Westland\, MI\, United States
END:VEVENT
BEGIN:VEVENT
DTSTART;TZID=America/Detroit:20260914T170000
DTEND;TZID=America/Detroit:20260914T210000
DTSTAMP:20260421T061040
CREATED:20260319T204800Z
LAST-MODIFIED:20260319T204800Z
UID:10008437-1789405200-1789419600@cruisnmedia.com
SUMMARY:Memories in Motion
DESCRIPTION:
URL:https://cruisnmedia.com/events-calendar/memories-in-motion/2026-09-14/
LOCATION:Olympic Coney Island\, 7011 Wayne Rd\, Westland\, MI\, United States
END:VEVENT
BEGIN:VEVENT
DTSTART;TZID=America/Detroit:20260921T170000
DTEND;TZID=America/Detroit:20260921T210000
DTSTAMP:20260421T061040
CREATED:20260319T204800Z
LAST-MODIFIED:20260319T204800Z
UID:10008438-1790010000-1790024400@cruisnmedia.com
SUMMARY:Memories in Motion
DESCRIPTION:
URL:https://cruisnmedia.com/events-calendar/memories-in-motion/2026-09-21/
LOCATION:Olympic Coney Island\, 7011 Wayne Rd\, Westland\, MI\, United States
END:VEVENT
BEGIN:VEVENT
DTSTART;TZID=America/Detroit:20260928T170000
DTEND;TZID=America/Detroit:20260928T210000
DTSTAMP:20260421T061040
CREATED:20260319T204800Z
LAST-MODIFIED:20260319T204800Z
UID:10008439-1790614800-1790629200@cruisnmedia.com
SUMMARY:Memories in Motion
DESCRIPTION:
URL:https://cruisnmedia.com/events-calendar/memories-in-motion/2026-09-28/
LOCATION:Olympic Coney Island\, 7011 Wayne Rd\, Westland\, MI\, United States
END:VEVENT
BEGIN:VEVENT
DTSTART;TZID=America/Detroit:20261005T170000
DTEND;TZID=America/Detroit:20261005T210000
DTSTAMP:20260421T061040
CREATED:20260319T204800Z
LAST-MODIFIED:20260319T204800Z
UID:10008440-1791219600-1791234000@cruisnmedia.com
SUMMARY:Memories in Motion
DESCRIPTION:
URL:https://cruisnmedia.com/events-calendar/memories-in-motion/2026-10-05/
LOCATION:Olympic Coney Island\, 7011 Wayne Rd\, Westland\, MI\, United States
END:VEVENT
BEGIN:VEVENT
DTSTART;TZID=America/Detroit:20261012T170000
DTEND;TZID=America/Detroit:20261012T210000
DTSTAMP:20260421T061040
CREATED:20260319T204800Z
LAST-MODIFIED:20260319T204800Z
UID:10008441-1791824400-1791838800@cruisnmedia.com
SUMMARY:Memories in Motion
DESCRIPTION:
URL:https://cruisnmedia.com/events-calendar/memories-in-motion/2026-10-12/
LOCATION:Olympic Coney Island\, 7011 Wayne Rd\, Westland\, MI\, United States
END:VEVENT
BEGIN:VEVENT
DTSTART;TZID=America/Detroit:20261019T170000
DTEND;TZID=America/Detroit:20261019T210000
DTSTAMP:20260421T061040
CREATED:20260319T204800Z
LAST-MODIFIED:20260319T204800Z
UID:10008442-1792429200-1792443600@cruisnmedia.com
SUMMARY:Memories in Motion
DESCRIPTION:
URL:https://cruisnmedia.com/events-calendar/memories-in-motion/2026-10-19/
LOCATION:Olympic Coney Island\, 7011 Wayne Rd\, Westland\, MI\, United States
END:VEVENT
BEGIN:VEVENT
DTSTART;TZID=America/Detroit:20261026T170000
DTEND;TZID=America/Detroit:20261026T210000
DTSTAMP:20260421T061040
CREATED:20260319T204800Z
LAST-MODIFIED:20260319T204800Z
UID:10008443-1793034000-1793048400@cruisnmedia.com
SUMMARY:Memories in Motion
DESCRIPTION:
URL:https://cruisnmedia.com/events-calendar/memories-in-motion/2026-10-26/
LOCATION:Olympic Coney Island\, 7011 Wayne Rd\, Westland\, MI\, United States
END:VEVENT
END:VCALENDAR