	
BEGIN:VCALENDAR
VERSION:2.0
PRODID:-//Cruis&#039;n Media - ECPv6.15.20//NONSGML v1.0//EN
CALSCALE:GREGORIAN
METHOD:PUBLISH
X-ORIGINAL-URL:https://cruisnmedia.com
X-WR-CALDESC:Events for Cruis&#039;n Media
REFRESH-INTERVAL;VALUE=DURATION:PT1H
X-Robots-Tag:noindex
X-PUBLISHED-TTL:PT1H
BEGIN:VTIMEZONE
TZID:America/Detroit
BEGIN:DAYLIGHT
TZOFFSETFROM:-0500
TZOFFSETTO:-0400
TZNAME:EDT
DTSTART:20250309T070000
END:DAYLIGHT
BEGIN:STANDARD
TZOFFSETFROM:-0400
TZOFFSETTO:-0500
TZNAME:EST
DTSTART:20251102T060000
END:STANDARD
BEGIN:DAYLIGHT
TZOFFSETFROM:-0500
TZOFFSETTO:-0400
TZNAME:EDT
DTSTART:20260308T070000
END:DAYLIGHT
BEGIN:STANDARD
TZOFFSETFROM:-0400
TZOFFSETTO:-0500
TZNAME:EST
DTSTART:20261101T060000
END:STANDARD
BEGIN:DAYLIGHT
TZOFFSETFROM:-0500
TZOFFSETTO:-0400
TZNAME:EDT
DTSTART:20270314T070000
END:DAYLIGHT
BEGIN:STANDARD
TZOFFSETFROM:-0400
TZOFFSETTO:-0500
TZNAME:EST
DTSTART:20271107T060000
END:STANDARD
END:VTIMEZONE
BEGIN:VEVENT
DTSTART;TZID=America/Detroit:20260228T090000
DTEND;TZID=America/Detroit:20260228T150000
DTSTAMP:20260419T164833
CREATED:20260128T191527Z
LAST-MODIFIED:20260128T191527Z
UID:10007774-1772269200-1772290800@cruisnmedia.com
SUMMARY:Winter Classic Mopar Swap Meet
DESCRIPTION:HERE’S THE DETAILS: \nRegistration is open\, and now is the time to reserve your spaces! \nSHOW HOURS: \nSaturday 9 am – 3 pm \nEvent held snow or shine. \nSPECTATOR ADMISSION: \n$10.00 (9:00am-1:00pm). \n$15.00 for anyone in attendance during Friday check-in or Saturday before 9:00am. \nFREE ADMISSION for all after 1:00pm. \nSpecial Needs and Children under 12 always free. \nON-SITE REGISTRATION HOURS: \nFriday: Noon-5:00pm\, Saturday: 7:00am-9:00am. \nPARTICIPANT ADMISSION: \nIndoor Swap Meet: $50.00 10’x20′. \nMidway: Premium main aisle spots for non-automotive commercial vendors. Must be reserved in advance. 10’x10′ $100.00. \nEntries include one (1) adult admission per space. \n8′ Table Rentals: $10.00 each. \nAdditional Helper: $15.00 each. \nDIRECTIONS: \nOhio Expo Center & State Fair\, 717 E. 17th Ave.\, Columbus\, OH 43211 \nTake I-71 to exit #111 \n  \nFor more information\, visithttps://www.jeffjohnsonmotorsports.com/chryslerregistration.php
URL:https://cruisnmedia.com/events-calendar/winter-classic-mopar-swap-meet-2/
LOCATION:Ohio Expo Center and State Fair\, 717 E 17th Ave\, Columbus\, OH\, United States
ATTACH;FMTTYPE=image/png:https://cruisnmedia.com/wp-content/uploads/2026/01/Screenshot-2026-01-28-141224.png
END:VEVENT
BEGIN:VEVENT
DTSTART;TZID=America/Detroit:20260228T090000
DTEND;TZID=America/Detroit:20260228T150000
DTSTAMP:20260419T164833
CREATED:20251212T195312Z
LAST-MODIFIED:20251212T195312Z
UID:10007676-1772269200-1772290800@cruisnmedia.com
SUMMARY:Winter Classic Mopar Swap Meet
DESCRIPTION:Winter Classic Mopar Swap Meet\nFebruary 28\, 2026\nOhio Expo Center\, Rhodes Building\nColumbus\, Ohio \n  \n31st Annual All Mopar Swap Meet and Car Corral -shop for parts & accessories for all Chrysler products!\nChrysler Classic Racer Reunion – past event videos\, practice tree competition\, food\, beverages and prizes!\nSnow or shine!\nDirections: 717 E. 17th Ave.\, 43211. Take I-71 just north of downtown Columbus to 17th Avenue (exit #111).\nShow Hours: Saturday 9:00am-3:00pm.\nVendor Check-in/Set up: Friday. Noon-5:00pm\, Saturday: 7:00am-9am. No Saturday drive-in unloading.\nSpectator Admission: Early bird $15.00 (8:00am-9:00am); $10.00 (9:00am-1:00pm). FREE ADMISSION FOR ALL AFTER 1:00pm. Special Needs and Children under 12 always free.\nParticipant Admission:\nRegister in advance online or at the door.\nIndoor Swap Meet or Car Corral: $50.00 10’x20’\nCar Corral and Swap Meet entry includes one (1) adult admission per space.\nMidway: Premium main aisle spots for non-automotive commercial vendors. Must be reserved in advance. 10’x10’ $100.00.\nCommercial entry includes two (2) adult admissions per space.\n8’ Table Rentals $15.00 each.\nAdditional Helper: $15.00 each. Required for ANYONE in attendance during Friday check-in or Saturday before 9:00am.\n614-268-1181\nInfo: www.jeffjohnsonmotorsports.com\nTo register: https://www.jeffjohnsonmotorsports.com/chryslerregistration.php\nFacebook: JeffJohnsonMotorsports
URL:https://cruisnmedia.com/events-calendar/winter-classic-mopar-swap-meet/
LOCATION:Ohio Expo Center and State Fair\, 717 E 17th Ave\, Columbus\, OH\, United States
ATTACH;FMTTYPE=image/jpeg:https://cruisnmedia.com/wp-content/uploads/2025/12/MailerWCfront26.jpg
END:VEVENT
END:VCALENDAR