	
BEGIN:VCALENDAR
VERSION:2.0
PRODID:-//Cruis&#039;n Media - ECPv6.15.20//NONSGML v1.0//EN
CALSCALE:GREGORIAN
METHOD:PUBLISH
X-WR-CALNAME:Cruis&#039;n Media
X-ORIGINAL-URL:https://cruisnmedia.com
X-WR-CALDESC:Events for Cruis&#039;n Media
REFRESH-INTERVAL;VALUE=DURATION:PT1H
X-Robots-Tag:noindex
X-PUBLISHED-TTL:PT1H
BEGIN:VTIMEZONE
TZID:America/Detroit
BEGIN:DAYLIGHT
TZOFFSETFROM:-0500
TZOFFSETTO:-0400
TZNAME:EDT
DTSTART:20250309T070000
END:DAYLIGHT
BEGIN:STANDARD
TZOFFSETFROM:-0400
TZOFFSETTO:-0500
TZNAME:EST
DTSTART:20251102T060000
END:STANDARD
BEGIN:DAYLIGHT
TZOFFSETFROM:-0500
TZOFFSETTO:-0400
TZNAME:EDT
DTSTART:20260308T070000
END:DAYLIGHT
BEGIN:STANDARD
TZOFFSETFROM:-0400
TZOFFSETTO:-0500
TZNAME:EST
DTSTART:20261101T060000
END:STANDARD
BEGIN:DAYLIGHT
TZOFFSETFROM:-0500
TZOFFSETTO:-0400
TZNAME:EDT
DTSTART:20270314T070000
END:DAYLIGHT
BEGIN:STANDARD
TZOFFSETFROM:-0400
TZOFFSETTO:-0500
TZNAME:EST
DTSTART:20271107T060000
END:STANDARD
END:VTIMEZONE
BEGIN:VEVENT
DTSTART;VALUE=DATE:20260104
DTEND;VALUE=DATE:20260105
DTSTAMP:20260419T162412
CREATED:20250930T165148Z
LAST-MODIFIED:20250930T165148Z
UID:10007626-1767513600-1767546000@cruisnmedia.com
SUMMARY:USA vs CAN - SNOWCROSS BORDER CUP
DESCRIPTION:For more information\, visit https://www.northernpowerracepark.com/event-details-registration/usa-vs-can-snowcross-border-cup-2
URL:https://cruisnmedia.com/events-calendar/usa-vs-can-snowcross-border-cup/2026-01-04/
LOCATION:Northern Power Race Park\, 2201 Valley Rd\, Mancelona\, MI
ATTACH;FMTTYPE=image/png:https://cruisnmedia.com/wp-content/uploads/2025/09/Screenshot-2025-09-30-125042.png
END:VEVENT
BEGIN:VEVENT
DTSTART;VALUE=DATE:20260103
DTEND;VALUE=DATE:20260104
DTSTAMP:20260419T162412
CREATED:20250930T165148Z
LAST-MODIFIED:20250930T165148Z
UID:10007625-1767398400-1767484799@cruisnmedia.com
SUMMARY:USA vs CAN - SNOWCROSS BORDER CUP
DESCRIPTION:For more information\, visit https://www.northernpowerracepark.com/event-details-registration/usa-vs-can-snowcross-border-cup-2
URL:https://cruisnmedia.com/events-calendar/usa-vs-can-snowcross-border-cup/2026-01-03/
LOCATION:Northern Power Race Park\, 2201 Valley Rd\, Mancelona\, MI
ATTACH;FMTTYPE=image/png:https://cruisnmedia.com/wp-content/uploads/2025/09/Screenshot-2025-09-30-125042.png
END:VEVENT
END:VCALENDAR