	
BEGIN:VCALENDAR
VERSION:2.0
PRODID:-//Cruis&#039;n Media - ECPv6.15.20//NONSGML v1.0//EN
CALSCALE:GREGORIAN
METHOD:PUBLISH
X-ORIGINAL-URL:https://cruisnmedia.com
X-WR-CALDESC:Events for Cruis&#039;n Media
REFRESH-INTERVAL;VALUE=DURATION:PT1H
X-Robots-Tag:noindex
X-PUBLISHED-TTL:PT1H
BEGIN:VTIMEZONE
TZID:America/Detroit
BEGIN:DAYLIGHT
TZOFFSETFROM:-0500
TZOFFSETTO:-0400
TZNAME:EDT
DTSTART:20250309T070000
END:DAYLIGHT
BEGIN:STANDARD
TZOFFSETFROM:-0400
TZOFFSETTO:-0500
TZNAME:EST
DTSTART:20251102T060000
END:STANDARD
BEGIN:DAYLIGHT
TZOFFSETFROM:-0500
TZOFFSETTO:-0400
TZNAME:EDT
DTSTART:20260308T070000
END:DAYLIGHT
BEGIN:STANDARD
TZOFFSETFROM:-0400
TZOFFSETTO:-0500
TZNAME:EST
DTSTART:20261101T060000
END:STANDARD
BEGIN:DAYLIGHT
TZOFFSETFROM:-0500
TZOFFSETTO:-0400
TZNAME:EDT
DTSTART:20270314T070000
END:DAYLIGHT
BEGIN:STANDARD
TZOFFSETFROM:-0400
TZOFFSETTO:-0500
TZNAME:EST
DTSTART:20271107T060000
END:STANDARD
END:VTIMEZONE
BEGIN:VEVENT
DTSTART;TZID=America/Detroit:20260506T160000
DTEND;TZID=America/Detroit:20260506T200000
DTSTAMP:20260423T082220
CREATED:20260318T194302Z
LAST-MODIFIED:20260318T194302Z
UID:10008310-1778083200-1778097600@cruisnmedia.com
SUMMARY:Louie's Towne Grill Weekly Cruise Night
DESCRIPTION:For more information\, contact (586) 477-0818
URL:https://cruisnmedia.com/events-calendar/louies-towne-grill-weekly-cruise-night/2026-05-06/
LOCATION:Louie’s Towne Grill\, 79 N Main St\, Mount Clemens\, MI\, 48043
ATTACH;FMTTYPE=image/jpeg:https://cruisnmedia.com/wp-content/uploads/2026/03/487072458_1191898292945298_6219280159764114941_n.jpg
END:VEVENT
BEGIN:VEVENT
DTSTART;TZID=America/Detroit:20260513T160000
DTEND;TZID=America/Detroit:20260513T200000
DTSTAMP:20260423T082220
CREATED:20260318T194302Z
LAST-MODIFIED:20260318T194302Z
UID:10008311-1778688000-1778702400@cruisnmedia.com
SUMMARY:Louie's Towne Grill Weekly Cruise Night
DESCRIPTION:For more information\, contact (586) 477-0818
URL:https://cruisnmedia.com/events-calendar/louies-towne-grill-weekly-cruise-night/2026-05-13/
LOCATION:Louie’s Towne Grill\, 79 N Main St\, Mount Clemens\, MI\, 48043
ATTACH;FMTTYPE=image/jpeg:https://cruisnmedia.com/wp-content/uploads/2026/03/487072458_1191898292945298_6219280159764114941_n.jpg
END:VEVENT
BEGIN:VEVENT
DTSTART;TZID=America/Detroit:20260520T160000
DTEND;TZID=America/Detroit:20260520T200000
DTSTAMP:20260423T082220
CREATED:20260318T194302Z
LAST-MODIFIED:20260318T194302Z
UID:10008312-1779292800-1779307200@cruisnmedia.com
SUMMARY:Louie's Towne Grill Weekly Cruise Night
DESCRIPTION:For more information\, contact (586) 477-0818
URL:https://cruisnmedia.com/events-calendar/louies-towne-grill-weekly-cruise-night/2026-05-20/
LOCATION:Louie’s Towne Grill\, 79 N Main St\, Mount Clemens\, MI\, 48043
ATTACH;FMTTYPE=image/jpeg:https://cruisnmedia.com/wp-content/uploads/2026/03/487072458_1191898292945298_6219280159764114941_n.jpg
END:VEVENT
BEGIN:VEVENT
DTSTART;TZID=America/Detroit:20260527T160000
DTEND;TZID=America/Detroit:20260527T200000
DTSTAMP:20260423T082220
CREATED:20260318T194302Z
LAST-MODIFIED:20260318T194302Z
UID:10008313-1779897600-1779912000@cruisnmedia.com
SUMMARY:Louie's Towne Grill Weekly Cruise Night
DESCRIPTION:For more information\, contact (586) 477-0818
URL:https://cruisnmedia.com/events-calendar/louies-towne-grill-weekly-cruise-night/2026-05-27/
LOCATION:Louie’s Towne Grill\, 79 N Main St\, Mount Clemens\, MI\, 48043
ATTACH;FMTTYPE=image/jpeg:https://cruisnmedia.com/wp-content/uploads/2026/03/487072458_1191898292945298_6219280159764114941_n.jpg
END:VEVENT
BEGIN:VEVENT
DTSTART;TZID=America/Detroit:20260603T160000
DTEND;TZID=America/Detroit:20260603T200000
DTSTAMP:20260423T082220
CREATED:20260318T194302Z
LAST-MODIFIED:20260318T194302Z
UID:10008314-1780502400-1780516800@cruisnmedia.com
SUMMARY:Louie's Towne Grill Weekly Cruise Night
DESCRIPTION:For more information\, contact (586) 477-0818
URL:https://cruisnmedia.com/events-calendar/louies-towne-grill-weekly-cruise-night/2026-06-03/
LOCATION:Louie’s Towne Grill\, 79 N Main St\, Mount Clemens\, MI\, 48043
ATTACH;FMTTYPE=image/jpeg:https://cruisnmedia.com/wp-content/uploads/2026/03/487072458_1191898292945298_6219280159764114941_n.jpg
END:VEVENT
BEGIN:VEVENT
DTSTART;TZID=America/Detroit:20260610T160000
DTEND;TZID=America/Detroit:20260610T200000
DTSTAMP:20260423T082220
CREATED:20260318T194302Z
LAST-MODIFIED:20260318T194302Z
UID:10008315-1781107200-1781121600@cruisnmedia.com
SUMMARY:Louie's Towne Grill Weekly Cruise Night
DESCRIPTION:For more information\, contact (586) 477-0818
URL:https://cruisnmedia.com/events-calendar/louies-towne-grill-weekly-cruise-night/2026-06-10/
LOCATION:Louie’s Towne Grill\, 79 N Main St\, Mount Clemens\, MI\, 48043
ATTACH;FMTTYPE=image/jpeg:https://cruisnmedia.com/wp-content/uploads/2026/03/487072458_1191898292945298_6219280159764114941_n.jpg
END:VEVENT
BEGIN:VEVENT
DTSTART;TZID=America/Detroit:20260617T160000
DTEND;TZID=America/Detroit:20260617T200000
DTSTAMP:20260423T082220
CREATED:20260318T194302Z
LAST-MODIFIED:20260318T194302Z
UID:10008316-1781712000-1781726400@cruisnmedia.com
SUMMARY:Louie's Towne Grill Weekly Cruise Night
DESCRIPTION:For more information\, contact (586) 477-0818
URL:https://cruisnmedia.com/events-calendar/louies-towne-grill-weekly-cruise-night/2026-06-17/
LOCATION:Louie’s Towne Grill\, 79 N Main St\, Mount Clemens\, MI\, 48043
ATTACH;FMTTYPE=image/jpeg:https://cruisnmedia.com/wp-content/uploads/2026/03/487072458_1191898292945298_6219280159764114941_n.jpg
END:VEVENT
BEGIN:VEVENT
DTSTART;TZID=America/Detroit:20260624T160000
DTEND;TZID=America/Detroit:20260624T200000
DTSTAMP:20260423T082220
CREATED:20260318T194302Z
LAST-MODIFIED:20260318T194302Z
UID:10008317-1782316800-1782331200@cruisnmedia.com
SUMMARY:Louie's Towne Grill Weekly Cruise Night
DESCRIPTION:For more information\, contact (586) 477-0818
URL:https://cruisnmedia.com/events-calendar/louies-towne-grill-weekly-cruise-night/2026-06-24/
LOCATION:Louie’s Towne Grill\, 79 N Main St\, Mount Clemens\, MI\, 48043
ATTACH;FMTTYPE=image/jpeg:https://cruisnmedia.com/wp-content/uploads/2026/03/487072458_1191898292945298_6219280159764114941_n.jpg
END:VEVENT
BEGIN:VEVENT
DTSTART;TZID=America/Detroit:20260701T160000
DTEND;TZID=America/Detroit:20260701T200000
DTSTAMP:20260423T082220
CREATED:20260318T194302Z
LAST-MODIFIED:20260318T194302Z
UID:10008318-1782921600-1782936000@cruisnmedia.com
SUMMARY:Louie's Towne Grill Weekly Cruise Night
DESCRIPTION:For more information\, contact (586) 477-0818
URL:https://cruisnmedia.com/events-calendar/louies-towne-grill-weekly-cruise-night/2026-07-01/
LOCATION:Louie’s Towne Grill\, 79 N Main St\, Mount Clemens\, MI\, 48043
ATTACH;FMTTYPE=image/jpeg:https://cruisnmedia.com/wp-content/uploads/2026/03/487072458_1191898292945298_6219280159764114941_n.jpg
END:VEVENT
BEGIN:VEVENT
DTSTART;TZID=America/Detroit:20260708T160000
DTEND;TZID=America/Detroit:20260708T200000
DTSTAMP:20260423T082220
CREATED:20260318T194302Z
LAST-MODIFIED:20260318T194302Z
UID:10008319-1783526400-1783540800@cruisnmedia.com
SUMMARY:Louie's Towne Grill Weekly Cruise Night
DESCRIPTION:For more information\, contact (586) 477-0818
URL:https://cruisnmedia.com/events-calendar/louies-towne-grill-weekly-cruise-night/2026-07-08/
LOCATION:Louie’s Towne Grill\, 79 N Main St\, Mount Clemens\, MI\, 48043
ATTACH;FMTTYPE=image/jpeg:https://cruisnmedia.com/wp-content/uploads/2026/03/487072458_1191898292945298_6219280159764114941_n.jpg
END:VEVENT
BEGIN:VEVENT
DTSTART;TZID=America/Detroit:20260715T160000
DTEND;TZID=America/Detroit:20260715T200000
DTSTAMP:20260423T082220
CREATED:20260318T194302Z
LAST-MODIFIED:20260318T194302Z
UID:10008320-1784131200-1784145600@cruisnmedia.com
SUMMARY:Louie's Towne Grill Weekly Cruise Night
DESCRIPTION:For more information\, contact (586) 477-0818
URL:https://cruisnmedia.com/events-calendar/louies-towne-grill-weekly-cruise-night/2026-07-15/
LOCATION:Louie’s Towne Grill\, 79 N Main St\, Mount Clemens\, MI\, 48043
ATTACH;FMTTYPE=image/jpeg:https://cruisnmedia.com/wp-content/uploads/2026/03/487072458_1191898292945298_6219280159764114941_n.jpg
END:VEVENT
BEGIN:VEVENT
DTSTART;TZID=America/Detroit:20260722T160000
DTEND;TZID=America/Detroit:20260722T200000
DTSTAMP:20260423T082220
CREATED:20260318T194302Z
LAST-MODIFIED:20260318T194302Z
UID:10008321-1784736000-1784750400@cruisnmedia.com
SUMMARY:Louie's Towne Grill Weekly Cruise Night
DESCRIPTION:For more information\, contact (586) 477-0818
URL:https://cruisnmedia.com/events-calendar/louies-towne-grill-weekly-cruise-night/2026-07-22/
LOCATION:Louie’s Towne Grill\, 79 N Main St\, Mount Clemens\, MI\, 48043
ATTACH;FMTTYPE=image/jpeg:https://cruisnmedia.com/wp-content/uploads/2026/03/487072458_1191898292945298_6219280159764114941_n.jpg
END:VEVENT
BEGIN:VEVENT
DTSTART;TZID=America/Detroit:20260729T160000
DTEND;TZID=America/Detroit:20260729T200000
DTSTAMP:20260423T082220
CREATED:20260318T194302Z
LAST-MODIFIED:20260318T194302Z
UID:10008322-1785340800-1785355200@cruisnmedia.com
SUMMARY:Louie's Towne Grill Weekly Cruise Night
DESCRIPTION:For more information\, contact (586) 477-0818
URL:https://cruisnmedia.com/events-calendar/louies-towne-grill-weekly-cruise-night/2026-07-29/
LOCATION:Louie’s Towne Grill\, 79 N Main St\, Mount Clemens\, MI\, 48043
ATTACH;FMTTYPE=image/jpeg:https://cruisnmedia.com/wp-content/uploads/2026/03/487072458_1191898292945298_6219280159764114941_n.jpg
END:VEVENT
BEGIN:VEVENT
DTSTART;TZID=America/Detroit:20260805T160000
DTEND;TZID=America/Detroit:20260805T200000
DTSTAMP:20260423T082220
CREATED:20260318T194302Z
LAST-MODIFIED:20260318T194302Z
UID:10008323-1785945600-1785960000@cruisnmedia.com
SUMMARY:Louie's Towne Grill Weekly Cruise Night
DESCRIPTION:For more information\, contact (586) 477-0818
URL:https://cruisnmedia.com/events-calendar/louies-towne-grill-weekly-cruise-night/2026-08-05/
LOCATION:Louie’s Towne Grill\, 79 N Main St\, Mount Clemens\, MI\, 48043
ATTACH;FMTTYPE=image/jpeg:https://cruisnmedia.com/wp-content/uploads/2026/03/487072458_1191898292945298_6219280159764114941_n.jpg
END:VEVENT
BEGIN:VEVENT
DTSTART;TZID=America/Detroit:20260812T160000
DTEND;TZID=America/Detroit:20260812T200000
DTSTAMP:20260423T082220
CREATED:20260318T194302Z
LAST-MODIFIED:20260318T194302Z
UID:10008324-1786550400-1786564800@cruisnmedia.com
SUMMARY:Louie's Towne Grill Weekly Cruise Night
DESCRIPTION:For more information\, contact (586) 477-0818
URL:https://cruisnmedia.com/events-calendar/louies-towne-grill-weekly-cruise-night/2026-08-12/
LOCATION:Louie’s Towne Grill\, 79 N Main St\, Mount Clemens\, MI\, 48043
ATTACH;FMTTYPE=image/jpeg:https://cruisnmedia.com/wp-content/uploads/2026/03/487072458_1191898292945298_6219280159764114941_n.jpg
END:VEVENT
BEGIN:VEVENT
DTSTART;TZID=America/Detroit:20260819T160000
DTEND;TZID=America/Detroit:20260819T200000
DTSTAMP:20260423T082220
CREATED:20260318T194302Z
LAST-MODIFIED:20260318T194302Z
UID:10008325-1787155200-1787169600@cruisnmedia.com
SUMMARY:Louie's Towne Grill Weekly Cruise Night
DESCRIPTION:For more information\, contact (586) 477-0818
URL:https://cruisnmedia.com/events-calendar/louies-towne-grill-weekly-cruise-night/2026-08-19/
LOCATION:Louie’s Towne Grill\, 79 N Main St\, Mount Clemens\, MI\, 48043
ATTACH;FMTTYPE=image/jpeg:https://cruisnmedia.com/wp-content/uploads/2026/03/487072458_1191898292945298_6219280159764114941_n.jpg
END:VEVENT
BEGIN:VEVENT
DTSTART;TZID=America/Detroit:20260826T160000
DTEND;TZID=America/Detroit:20260826T200000
DTSTAMP:20260423T082220
CREATED:20260318T194302Z
LAST-MODIFIED:20260318T194302Z
UID:10008326-1787760000-1787774400@cruisnmedia.com
SUMMARY:Louie's Towne Grill Weekly Cruise Night
DESCRIPTION:For more information\, contact (586) 477-0818
URL:https://cruisnmedia.com/events-calendar/louies-towne-grill-weekly-cruise-night/2026-08-26/
LOCATION:Louie’s Towne Grill\, 79 N Main St\, Mount Clemens\, MI\, 48043
ATTACH;FMTTYPE=image/jpeg:https://cruisnmedia.com/wp-content/uploads/2026/03/487072458_1191898292945298_6219280159764114941_n.jpg
END:VEVENT
BEGIN:VEVENT
DTSTART;TZID=America/Detroit:20260902T160000
DTEND;TZID=America/Detroit:20260902T200000
DTSTAMP:20260423T082220
CREATED:20260318T194302Z
LAST-MODIFIED:20260318T194302Z
UID:10008327-1788364800-1788379200@cruisnmedia.com
SUMMARY:Louie's Towne Grill Weekly Cruise Night
DESCRIPTION:For more information\, contact (586) 477-0818
URL:https://cruisnmedia.com/events-calendar/louies-towne-grill-weekly-cruise-night/2026-09-02/
LOCATION:Louie’s Towne Grill\, 79 N Main St\, Mount Clemens\, MI\, 48043
ATTACH;FMTTYPE=image/jpeg:https://cruisnmedia.com/wp-content/uploads/2026/03/487072458_1191898292945298_6219280159764114941_n.jpg
END:VEVENT
BEGIN:VEVENT
DTSTART;TZID=America/Detroit:20260909T160000
DTEND;TZID=America/Detroit:20260909T200000
DTSTAMP:20260423T082220
CREATED:20260318T194302Z
LAST-MODIFIED:20260318T194302Z
UID:10008328-1788969600-1788984000@cruisnmedia.com
SUMMARY:Louie's Towne Grill Weekly Cruise Night
DESCRIPTION:For more information\, contact (586) 477-0818
URL:https://cruisnmedia.com/events-calendar/louies-towne-grill-weekly-cruise-night/2026-09-09/
LOCATION:Louie’s Towne Grill\, 79 N Main St\, Mount Clemens\, MI\, 48043
ATTACH;FMTTYPE=image/jpeg:https://cruisnmedia.com/wp-content/uploads/2026/03/487072458_1191898292945298_6219280159764114941_n.jpg
END:VEVENT
BEGIN:VEVENT
DTSTART;TZID=America/Detroit:20260916T160000
DTEND;TZID=America/Detroit:20260916T200000
DTSTAMP:20260423T082220
CREATED:20260318T194302Z
LAST-MODIFIED:20260318T194302Z
UID:10008329-1789574400-1789588800@cruisnmedia.com
SUMMARY:Louie's Towne Grill Weekly Cruise Night
DESCRIPTION:For more information\, contact (586) 477-0818
URL:https://cruisnmedia.com/events-calendar/louies-towne-grill-weekly-cruise-night/2026-09-16/
LOCATION:Louie’s Towne Grill\, 79 N Main St\, Mount Clemens\, MI\, 48043
ATTACH;FMTTYPE=image/jpeg:https://cruisnmedia.com/wp-content/uploads/2026/03/487072458_1191898292945298_6219280159764114941_n.jpg
END:VEVENT
BEGIN:VEVENT
DTSTART;TZID=America/Detroit:20260923T160000
DTEND;TZID=America/Detroit:20260923T200000
DTSTAMP:20260423T082220
CREATED:20260318T194302Z
LAST-MODIFIED:20260318T194302Z
UID:10008330-1790179200-1790193600@cruisnmedia.com
SUMMARY:Louie's Towne Grill Weekly Cruise Night
DESCRIPTION:For more information\, contact (586) 477-0818
URL:https://cruisnmedia.com/events-calendar/louies-towne-grill-weekly-cruise-night/2026-09-23/
LOCATION:Louie’s Towne Grill\, 79 N Main St\, Mount Clemens\, MI\, 48043
ATTACH;FMTTYPE=image/jpeg:https://cruisnmedia.com/wp-content/uploads/2026/03/487072458_1191898292945298_6219280159764114941_n.jpg
END:VEVENT
BEGIN:VEVENT
DTSTART;TZID=America/Detroit:20260930T160000
DTEND;TZID=America/Detroit:20260930T200000
DTSTAMP:20260423T082220
CREATED:20260318T194302Z
LAST-MODIFIED:20260318T194302Z
UID:10008331-1790784000-1790798400@cruisnmedia.com
SUMMARY:Louie's Towne Grill Weekly Cruise Night
DESCRIPTION:For more information\, contact (586) 477-0818
URL:https://cruisnmedia.com/events-calendar/louies-towne-grill-weekly-cruise-night/2026-09-30/
LOCATION:Louie’s Towne Grill\, 79 N Main St\, Mount Clemens\, MI\, 48043
ATTACH;FMTTYPE=image/jpeg:https://cruisnmedia.com/wp-content/uploads/2026/03/487072458_1191898292945298_6219280159764114941_n.jpg
END:VEVENT
BEGIN:VEVENT
DTSTART;TZID=America/Detroit:20261007T160000
DTEND;TZID=America/Detroit:20261007T200000
DTSTAMP:20260423T082220
CREATED:20260318T194302Z
LAST-MODIFIED:20260318T194302Z
UID:10008332-1791388800-1791403200@cruisnmedia.com
SUMMARY:Louie's Towne Grill Weekly Cruise Night
DESCRIPTION:For more information\, contact (586) 477-0818
URL:https://cruisnmedia.com/events-calendar/louies-towne-grill-weekly-cruise-night/2026-10-07/
LOCATION:Louie’s Towne Grill\, 79 N Main St\, Mount Clemens\, MI\, 48043
ATTACH;FMTTYPE=image/jpeg:https://cruisnmedia.com/wp-content/uploads/2026/03/487072458_1191898292945298_6219280159764114941_n.jpg
END:VEVENT
END:VCALENDAR