	
BEGIN:VCALENDAR
VERSION:2.0
PRODID:-//Cruis&#039;n Media - ECPv6.15.20//NONSGML v1.0//EN
CALSCALE:GREGORIAN
METHOD:PUBLISH
X-WR-CALNAME:Cruis&#039;n Media
X-ORIGINAL-URL:https://cruisnmedia.com
X-WR-CALDESC:Events for Cruis&#039;n Media
REFRESH-INTERVAL;VALUE=DURATION:PT1H
X-Robots-Tag:noindex
X-PUBLISHED-TTL:PT1H
BEGIN:VTIMEZONE
TZID:America/Detroit
BEGIN:DAYLIGHT
TZOFFSETFROM:-0500
TZOFFSETTO:-0400
TZNAME:EDT
DTSTART:20240310T070000
END:DAYLIGHT
BEGIN:STANDARD
TZOFFSETFROM:-0400
TZOFFSETTO:-0500
TZNAME:EST
DTSTART:20241103T060000
END:STANDARD
BEGIN:DAYLIGHT
TZOFFSETFROM:-0500
TZOFFSETTO:-0400
TZNAME:EDT
DTSTART:20250309T070000
END:DAYLIGHT
BEGIN:STANDARD
TZOFFSETFROM:-0400
TZOFFSETTO:-0500
TZNAME:EST
DTSTART:20251102T060000
END:STANDARD
BEGIN:DAYLIGHT
TZOFFSETFROM:-0500
TZOFFSETTO:-0400
TZNAME:EDT
DTSTART:20260308T070000
END:DAYLIGHT
BEGIN:STANDARD
TZOFFSETFROM:-0400
TZOFFSETTO:-0500
TZNAME:EST
DTSTART:20261101T060000
END:STANDARD
END:VTIMEZONE
BEGIN:VEVENT
DTSTART;TZID=America/Detroit:20251213T090000
DTEND;TZID=America/Detroit:20251213T160000
DTSTAMP:20260419T162217
CREATED:20251008T152200Z
LAST-MODIFIED:20251008T152200Z
UID:10007640-1765616400-1765641600@cruisnmedia.com
SUMMARY:PRI Show
DESCRIPTION:For more information\, visit https://www.performanceracing.com/tradeshow
URL:https://cruisnmedia.com/events-calendar/pri-show/2025-12-13/
LOCATION:Indiana Convention Center\, 100 S Capitol Ave\, Indianapolis\, IN
END:VEVENT
BEGIN:VEVENT
DTSTART;TZID=America/Detroit:20251212T090000
DTEND;TZID=America/Detroit:20251212T170000
DTSTAMP:20260419T162217
CREATED:20251008T152200Z
LAST-MODIFIED:20251008T152200Z
UID:10007639-1765530000-1765558800@cruisnmedia.com
SUMMARY:PRI Show
DESCRIPTION:For more information\, visit https://www.performanceracing.com/tradeshow
URL:https://cruisnmedia.com/events-calendar/pri-show/2025-12-12/
LOCATION:Indiana Convention Center\, 100 S Capitol Ave\, Indianapolis\, IN
END:VEVENT
BEGIN:VEVENT
DTSTART;TZID=America/Detroit:20251211T090000
DTEND;TZID=America/Detroit:20251211T170000
DTSTAMP:20260419T162217
CREATED:20251008T152200Z
LAST-MODIFIED:20251008T152200Z
UID:10007638-1765443600-1765472400@cruisnmedia.com
SUMMARY:PRI Show
DESCRIPTION:For more information\, visit https://www.performanceracing.com/tradeshow
URL:https://cruisnmedia.com/events-calendar/pri-show/2025-12-11/
LOCATION:Indiana Convention Center\, 100 S Capitol Ave\, Indianapolis\, IN
END:VEVENT
END:VCALENDAR