	
BEGIN:VCALENDAR
VERSION:2.0
PRODID:-//Cruis&#039;n Media - ECPv6.15.20//NONSGML v1.0//EN
CALSCALE:GREGORIAN
METHOD:PUBLISH
X-WR-CALNAME:Cruis&#039;n Media
X-ORIGINAL-URL:https://cruisnmedia.com
X-WR-CALDESC:Events for Cruis&#039;n Media
REFRESH-INTERVAL;VALUE=DURATION:PT1H
X-Robots-Tag:noindex
X-PUBLISHED-TTL:PT1H
BEGIN:VTIMEZONE
TZID:America/Detroit
BEGIN:DAYLIGHT
TZOFFSETFROM:-0500
TZOFFSETTO:-0400
TZNAME:EDT
DTSTART:20250309T070000
END:DAYLIGHT
BEGIN:STANDARD
TZOFFSETFROM:-0400
TZOFFSETTO:-0500
TZNAME:EST
DTSTART:20251102T060000
END:STANDARD
BEGIN:DAYLIGHT
TZOFFSETFROM:-0500
TZOFFSETTO:-0400
TZNAME:EDT
DTSTART:20260308T070000
END:DAYLIGHT
BEGIN:STANDARD
TZOFFSETFROM:-0400
TZOFFSETTO:-0500
TZNAME:EST
DTSTART:20261101T060000
END:STANDARD
BEGIN:DAYLIGHT
TZOFFSETFROM:-0500
TZOFFSETTO:-0400
TZNAME:EDT
DTSTART:20270314T070000
END:DAYLIGHT
BEGIN:STANDARD
TZOFFSETFROM:-0400
TZOFFSETTO:-0500
TZNAME:EST
DTSTART:20271107T060000
END:STANDARD
END:VTIMEZONE
BEGIN:VEVENT
DTSTART;TZID=America/Detroit:20260301T110000
DTEND;TZID=America/Detroit:20260301T190000
DTSTAMP:20260419T181125
CREATED:20251215T150215Z
LAST-MODIFIED:20251215T150215Z
UID:10007698-1772362800-1772391600@cruisnmedia.com
SUMMARY:Cleveland Auto Show
DESCRIPTION:For more information\, please visit https://clevelandautoshow.com/
URL:https://cruisnmedia.com/events-calendar/cleveland-auto-show/2026-03-01/
LOCATION:I-X Center\, 1 I-X Center Dr\, Cleveland\, OH\, 44135\, United States
END:VEVENT
BEGIN:VEVENT
DTSTART;TZID=America/Detroit:20260228T110000
DTEND;TZID=America/Detroit:20260228T210000
DTSTAMP:20260419T181125
CREATED:20251215T150215Z
LAST-MODIFIED:20251215T150215Z
UID:10007697-1772276400-1772312400@cruisnmedia.com
SUMMARY:Cleveland Auto Show
DESCRIPTION:For more information\, please visit https://clevelandautoshow.com/
URL:https://cruisnmedia.com/events-calendar/cleveland-auto-show/2026-02-28/
LOCATION:I-X Center\, 1 I-X Center Dr\, Cleveland\, OH\, 44135\, United States
END:VEVENT
BEGIN:VEVENT
DTSTART;TZID=America/Detroit:20260227T110000
DTEND;TZID=America/Detroit:20260227T210000
DTSTAMP:20260419T181125
CREATED:20251215T150215Z
LAST-MODIFIED:20251215T150215Z
UID:10007696-1772190000-1772226000@cruisnmedia.com
SUMMARY:Cleveland Auto Show
DESCRIPTION:For more information\, please visit https://clevelandautoshow.com/
URL:https://cruisnmedia.com/events-calendar/cleveland-auto-show/2026-02-27/
LOCATION:I-X Center\, 1 I-X Center Dr\, Cleveland\, OH\, 44135\, United States
END:VEVENT
BEGIN:VEVENT
DTSTART;TZID=America/Detroit:20260226T110000
DTEND;TZID=America/Detroit:20260226T200000
DTSTAMP:20260419T181125
CREATED:20251215T150215Z
LAST-MODIFIED:20251215T150215Z
UID:10007695-1772103600-1772136000@cruisnmedia.com
SUMMARY:Cleveland Auto Show
DESCRIPTION:For more information\, please visit https://clevelandautoshow.com/
URL:https://cruisnmedia.com/events-calendar/cleveland-auto-show/2026-02-26/
LOCATION:I-X Center\, 1 I-X Center Dr\, Cleveland\, OH\, 44135\, United States
END:VEVENT
BEGIN:VEVENT
DTSTART;TZID=America/Detroit:20260225T110000
DTEND;TZID=America/Detroit:20260225T200000
DTSTAMP:20260419T181125
CREATED:20251215T150215Z
LAST-MODIFIED:20251215T150215Z
UID:10007694-1772017200-1772049600@cruisnmedia.com
SUMMARY:Cleveland Auto Show
DESCRIPTION:For more information\, please visit https://clevelandautoshow.com/
URL:https://cruisnmedia.com/events-calendar/cleveland-auto-show/2026-02-25/
LOCATION:I-X Center\, 1 I-X Center Dr\, Cleveland\, OH\, 44135\, United States
END:VEVENT
BEGIN:VEVENT
DTSTART;TZID=America/Detroit:20260224T110000
DTEND;TZID=America/Detroit:20260224T200000
DTSTAMP:20260419T181125
CREATED:20251215T150215Z
LAST-MODIFIED:20251215T150215Z
UID:10007693-1771930800-1771963200@cruisnmedia.com
SUMMARY:Cleveland Auto Show
DESCRIPTION:For more information\, please visit https://clevelandautoshow.com/
URL:https://cruisnmedia.com/events-calendar/cleveland-auto-show/2026-02-24/
LOCATION:I-X Center\, 1 I-X Center Dr\, Cleveland\, OH\, 44135\, United States
END:VEVENT
BEGIN:VEVENT
DTSTART;TZID=America/Detroit:20260223T110000
DTEND;TZID=America/Detroit:20260223T200000
DTSTAMP:20260419T181125
CREATED:20251215T150215Z
LAST-MODIFIED:20251215T150215Z
UID:10007692-1771844400-1771876800@cruisnmedia.com
SUMMARY:Cleveland Auto Show
DESCRIPTION:For more information\, please visit https://clevelandautoshow.com/
URL:https://cruisnmedia.com/events-calendar/cleveland-auto-show/2026-02-23/
LOCATION:I-X Center\, 1 I-X Center Dr\, Cleveland\, OH\, 44135\, United States
END:VEVENT
BEGIN:VEVENT
DTSTART;TZID=America/Detroit:20260222T110000
DTEND;TZID=America/Detroit:20260222T190000
DTSTAMP:20260419T181125
CREATED:20251215T150215Z
LAST-MODIFIED:20251215T150215Z
UID:10007691-1771758000-1771786800@cruisnmedia.com
SUMMARY:Cleveland Auto Show
DESCRIPTION:For more information\, please visit https://clevelandautoshow.com/
URL:https://cruisnmedia.com/events-calendar/cleveland-auto-show/2026-02-22/
LOCATION:I-X Center\, 1 I-X Center Dr\, Cleveland\, OH\, 44135\, United States
END:VEVENT
BEGIN:VEVENT
DTSTART;TZID=America/Detroit:20260221T110000
DTEND;TZID=America/Detroit:20260221T210000
DTSTAMP:20260419T181125
CREATED:20251215T150215Z
LAST-MODIFIED:20251215T150215Z
UID:10007690-1771671600-1771707600@cruisnmedia.com
SUMMARY:Cleveland Auto Show
DESCRIPTION:For more information\, please visit https://clevelandautoshow.com/
URL:https://cruisnmedia.com/events-calendar/cleveland-auto-show/2026-02-21/
LOCATION:I-X Center\, 1 I-X Center Dr\, Cleveland\, OH\, 44135\, United States
END:VEVENT
BEGIN:VEVENT
DTSTART;TZID=America/Detroit:20260220T170000
DTEND;TZID=America/Detroit:20260220T220000
DTSTAMP:20260419T181125
CREATED:20251215T150215Z
LAST-MODIFIED:20251215T150215Z
UID:10007689-1771606800-1771624800@cruisnmedia.com
SUMMARY:Cleveland Auto Show
DESCRIPTION:For more information\, please visit https://clevelandautoshow.com/
URL:https://cruisnmedia.com/events-calendar/cleveland-auto-show/2026-02-20/
LOCATION:I-X Center\, 1 I-X Center Dr\, Cleveland\, OH\, 44135\, United States
END:VEVENT
END:VCALENDAR