	
BEGIN:VCALENDAR
VERSION:2.0
PRODID:-//Cruis&#039;n Media - ECPv6.15.20//NONSGML v1.0//EN
CALSCALE:GREGORIAN
METHOD:PUBLISH
X-WR-CALNAME:Cruis&#039;n Media
X-ORIGINAL-URL:https://cruisnmedia.com
X-WR-CALDESC:Events for Cruis&#039;n Media
REFRESH-INTERVAL;VALUE=DURATION:PT1H
X-Robots-Tag:noindex
X-PUBLISHED-TTL:PT1H
BEGIN:VTIMEZONE
TZID:America/Detroit
BEGIN:DAYLIGHT
TZOFFSETFROM:-0500
TZOFFSETTO:-0400
TZNAME:EDT
DTSTART:20250309T070000
END:DAYLIGHT
BEGIN:STANDARD
TZOFFSETFROM:-0400
TZOFFSETTO:-0500
TZNAME:EST
DTSTART:20251102T060000
END:STANDARD
BEGIN:DAYLIGHT
TZOFFSETFROM:-0500
TZOFFSETTO:-0400
TZNAME:EDT
DTSTART:20260308T070000
END:DAYLIGHT
BEGIN:STANDARD
TZOFFSETFROM:-0400
TZOFFSETTO:-0500
TZNAME:EST
DTSTART:20261101T060000
END:STANDARD
BEGIN:DAYLIGHT
TZOFFSETFROM:-0500
TZOFFSETTO:-0400
TZNAME:EDT
DTSTART:20270314T070000
END:DAYLIGHT
BEGIN:STANDARD
TZOFFSETFROM:-0400
TZOFFSETTO:-0500
TZNAME:EST
DTSTART:20271107T060000
END:STANDARD
END:VTIMEZONE
BEGIN:VEVENT
DTSTART;TZID=America/Detroit:20260724T080000
DTEND;TZID=America/Detroit:20260724T170000
DTSTAMP:20260421T043229
CREATED:20260202T201304Z
LAST-MODIFIED:20260202T201304Z
UID:10007897-1784880000-1784912400@cruisnmedia.com
SUMMARY:Iconiq Car & Truck Show
DESCRIPTION:
URL:https://cruisnmedia.com/events-calendar/iconiq-car-truck-show/2026-07-24/
LOCATION:Eastwood Towne Center\, 3003 Preyde Blvd\, Lansing\, MI
ATTACH;FMTTYPE=image/jpeg:https://cruisnmedia.com/wp-content/uploads/2026/02/612462879_122182391702443418_7715685427709549029_n.jpg
END:VEVENT
BEGIN:VEVENT
DTSTART;TZID=America/Detroit:20260725T070000
DTEND;TZID=America/Detroit:20260725T170000
DTSTAMP:20260421T043229
CREATED:20260323T170432Z
LAST-MODIFIED:20260323T170432Z
UID:10008475-1784962800-1784998800@cruisnmedia.com
SUMMARY:2026 ICONIQ car and truck show
DESCRIPTION:OFFICIAL INFORMATION — ICONIQ CORVETTE CLUB 🔥 \n  \nSaturday – July 25th \n7:00am: Gates open for vehicle staging & open registration – Eastwood Towne \nCenter – 3003 Preyde Blvd. Lansing\, MI 48912 \n9:00am: National Anthem – special guest\, Tre Kin \n11:00am: Registration Ends & Judging Begins (If not registered by 11AM\, you will not be judged). \n2:00pm: Judging Ends \n3:30pm: Awards Ceremony – Trophy Presentation \n👑 Hosted by the ICONIQ Corvette Club \nCome on out and let’s make it ICONIQ!! \nThis will be a one-of-a-kind Capital City show 🏁🔥 \nFor more information\, contact dub0055@comcast.net
URL:https://cruisnmedia.com/events-calendar/2026-iconiq-car-and-truck-show/
LOCATION:Eastwood Towne Center\, 3003 Preyde Blvd\, Lansing\, MI
ATTACH;FMTTYPE=image/jpeg:https://cruisnmedia.com/wp-content/uploads/2026/03/IMG-20260315-WA0000.jpg
END:VEVENT
BEGIN:VEVENT
DTSTART;TZID=America/Detroit:20260725T080000
DTEND;TZID=America/Detroit:20260725T170000
DTSTAMP:20260421T043229
CREATED:20260202T201304Z
LAST-MODIFIED:20260202T201304Z
UID:10007898-1784966400-1784998800@cruisnmedia.com
SUMMARY:Iconiq Car & Truck Show
DESCRIPTION:
URL:https://cruisnmedia.com/events-calendar/iconiq-car-truck-show/2026-07-25/
LOCATION:Eastwood Towne Center\, 3003 Preyde Blvd\, Lansing\, MI
ATTACH;FMTTYPE=image/jpeg:https://cruisnmedia.com/wp-content/uploads/2026/02/612462879_122182391702443418_7715685427709549029_n.jpg
END:VEVENT
END:VCALENDAR