	
BEGIN:VCALENDAR
VERSION:2.0
PRODID:-//Cruis&#039;n Media - ECPv6.15.20//NONSGML v1.0//EN
CALSCALE:GREGORIAN
METHOD:PUBLISH
X-ORIGINAL-URL:https://cruisnmedia.com
X-WR-CALDESC:Events for Cruis&#039;n Media
REFRESH-INTERVAL;VALUE=DURATION:PT1H
X-Robots-Tag:noindex
X-PUBLISHED-TTL:PT1H
BEGIN:VTIMEZONE
TZID:America/Detroit
BEGIN:DAYLIGHT
TZOFFSETFROM:-0500
TZOFFSETTO:-0400
TZNAME:EDT
DTSTART:20250309T070000
END:DAYLIGHT
BEGIN:STANDARD
TZOFFSETFROM:-0400
TZOFFSETTO:-0500
TZNAME:EST
DTSTART:20251102T060000
END:STANDARD
BEGIN:DAYLIGHT
TZOFFSETFROM:-0500
TZOFFSETTO:-0400
TZNAME:EDT
DTSTART:20260308T070000
END:DAYLIGHT
BEGIN:STANDARD
TZOFFSETFROM:-0400
TZOFFSETTO:-0500
TZNAME:EST
DTSTART:20261101T060000
END:STANDARD
BEGIN:DAYLIGHT
TZOFFSETFROM:-0500
TZOFFSETTO:-0400
TZNAME:EDT
DTSTART:20270314T070000
END:DAYLIGHT
BEGIN:STANDARD
TZOFFSETFROM:-0400
TZOFFSETTO:-0500
TZNAME:EST
DTSTART:20271107T060000
END:STANDARD
END:VTIMEZONE
BEGIN:VEVENT
DTSTART;TZID=America/Detroit:20260215T100000
DTEND;TZID=America/Detroit:20260215T150000
DTSTAMP:20260419T163836
CREATED:20251120T205350Z
LAST-MODIFIED:20251120T205350Z
UID:10007660-1771149600-1771167600@cruisnmedia.com
SUMMARY:Chrome & Ice
DESCRIPTION:Visit https://backtothebricks.org/chromeandice2026/ for more information
URL:https://cruisnmedia.com/events-calendar/chrome-ice/2026-02-15/
LOCATION:Dort Federal Event Center\, 3501 Lapeer Road\, Flint\, MI\, 48503\, United States
ATTACH;FMTTYPE=image/png:https://cruisnmedia.com/wp-content/uploads/2025/11/Screenshot-2025-11-20-154835.png
END:VEVENT
BEGIN:VEVENT
DTSTART;TZID=America/Detroit:20260214T100000
DTEND;TZID=America/Detroit:20260214T150000
DTSTAMP:20260419T163837
CREATED:20251120T205350Z
LAST-MODIFIED:20251120T205350Z
UID:10007659-1771063200-1771081200@cruisnmedia.com
SUMMARY:Chrome & Ice
DESCRIPTION:Visit https://backtothebricks.org/chromeandice2026/ for more information
URL:https://cruisnmedia.com/events-calendar/chrome-ice/2026-02-14/
LOCATION:Dort Federal Event Center\, 3501 Lapeer Road\, Flint\, MI\, 48503\, United States
ATTACH;FMTTYPE=image/png:https://cruisnmedia.com/wp-content/uploads/2025/11/Screenshot-2025-11-20-154835.png
END:VEVENT
BEGIN:VEVENT
DTSTART;TZID=America/Detroit:20260213T120000
DTEND;TZID=America/Detroit:20260213T200000
DTSTAMP:20260419T163837
CREATED:20251120T205350Z
LAST-MODIFIED:20251120T205350Z
UID:10007658-1770984000-1771012800@cruisnmedia.com
SUMMARY:Chrome & Ice
DESCRIPTION:Visit https://backtothebricks.org/chromeandice2026/ for more information
URL:https://cruisnmedia.com/events-calendar/chrome-ice/2026-02-13/
LOCATION:Dort Federal Event Center\, 3501 Lapeer Road\, Flint\, MI\, 48503\, United States
ATTACH;FMTTYPE=image/png:https://cruisnmedia.com/wp-content/uploads/2025/11/Screenshot-2025-11-20-154835.png
END:VEVENT
END:VCALENDAR