	
BEGIN:VCALENDAR
VERSION:2.0
PRODID:-//Cruis&#039;n Media - ECPv6.15.20//NONSGML v1.0//EN
CALSCALE:GREGORIAN
METHOD:PUBLISH
X-WR-CALNAME:Cruis&#039;n Media
X-ORIGINAL-URL:https://cruisnmedia.com
X-WR-CALDESC:Events for Cruis&#039;n Media
REFRESH-INTERVAL;VALUE=DURATION:PT1H
X-Robots-Tag:noindex
X-PUBLISHED-TTL:PT1H
BEGIN:VTIMEZONE
TZID:America/Detroit
BEGIN:DAYLIGHT
TZOFFSETFROM:-0500
TZOFFSETTO:-0400
TZNAME:EDT
DTSTART:20250309T070000
END:DAYLIGHT
BEGIN:STANDARD
TZOFFSETFROM:-0400
TZOFFSETTO:-0500
TZNAME:EST
DTSTART:20251102T060000
END:STANDARD
BEGIN:DAYLIGHT
TZOFFSETFROM:-0500
TZOFFSETTO:-0400
TZNAME:EDT
DTSTART:20260308T070000
END:DAYLIGHT
BEGIN:STANDARD
TZOFFSETFROM:-0400
TZOFFSETTO:-0500
TZNAME:EST
DTSTART:20261101T060000
END:STANDARD
BEGIN:DAYLIGHT
TZOFFSETFROM:-0500
TZOFFSETTO:-0400
TZNAME:EDT
DTSTART:20270314T070000
END:DAYLIGHT
BEGIN:STANDARD
TZOFFSETFROM:-0400
TZOFFSETTO:-0500
TZNAME:EST
DTSTART:20271107T060000
END:STANDARD
END:VTIMEZONE
BEGIN:VEVENT
DTSTART;TZID=America/Detroit:20260525T090000
DTEND;TZID=America/Detroit:20260525T143000
DTSTAMP:20260419T140826
CREATED:20260318T162128Z
LAST-MODIFIED:20260318T162202Z
UID:10008299-1779699600-1779719400@cruisnmedia.com
SUMMARY:Climax Car Show
DESCRIPTION:The Sunset Cruisers will have the car show and also have a Bake Sale.There will be many food vendors\, arts and craft vendors\, children’s activities\, fun for the whole family! Everything will all be at the same location at the school.Please see the attached flyer for more details! \nFor more information\, contact (269) 213- 9723
URL:https://cruisnmedia.com/events-calendar/climax-car-show/
LOCATION:Climax Scotts Intermediate School\, 372 S Main St\, Climax\, MI
ATTACH;FMTTYPE=image/jpeg:https://cruisnmedia.com/wp-content/uploads/2026/03/615280441_1477709087688118_1147162590806492378_n.jpg
END:VEVENT
END:VCALENDAR