	
BEGIN:VCALENDAR
VERSION:2.0
PRODID:-//Cruis&#039;n Media - ECPv6.15.20//NONSGML v1.0//EN
CALSCALE:GREGORIAN
METHOD:PUBLISH
X-WR-CALNAME:Cruis&#039;n Media
X-ORIGINAL-URL:https://cruisnmedia.com
X-WR-CALDESC:Events for Cruis&#039;n Media
REFRESH-INTERVAL;VALUE=DURATION:PT1H
X-Robots-Tag:noindex
X-PUBLISHED-TTL:PT1H
BEGIN:VTIMEZONE
TZID:America/Detroit
BEGIN:DAYLIGHT
TZOFFSETFROM:-0500
TZOFFSETTO:-0400
TZNAME:EDT
DTSTART:20250309T070000
END:DAYLIGHT
BEGIN:STANDARD
TZOFFSETFROM:-0400
TZOFFSETTO:-0500
TZNAME:EST
DTSTART:20251102T060000
END:STANDARD
BEGIN:DAYLIGHT
TZOFFSETFROM:-0500
TZOFFSETTO:-0400
TZNAME:EDT
DTSTART:20260308T070000
END:DAYLIGHT
BEGIN:STANDARD
TZOFFSETFROM:-0400
TZOFFSETTO:-0500
TZNAME:EST
DTSTART:20261101T060000
END:STANDARD
BEGIN:DAYLIGHT
TZOFFSETFROM:-0500
TZOFFSETTO:-0400
TZNAME:EDT
DTSTART:20270314T070000
END:DAYLIGHT
BEGIN:STANDARD
TZOFFSETFROM:-0400
TZOFFSETTO:-0500
TZNAME:EST
DTSTART:20271107T060000
END:STANDARD
END:VTIMEZONE
BEGIN:VEVENT
DTSTART;TZID=America/Detroit:20260822T080000
DTEND;TZID=America/Detroit:20260822T153000
DTSTAMP:20260421T044445
CREATED:20260401T143229Z
LAST-MODIFIED:20260401T143229Z
UID:10008972-1787385600-1787412600@cruisnmedia.com
SUMMARY:Utica Gasoline Alley car show
DESCRIPTION:Car show\, Gasoline Alley\, Car show in downtown Utica 8am to 3 pm. This year we are having also having an area for kids.\nDJ playing music and 50/50 prizes. T shirts for sale. All profit goes to charity. \nFor more information\, contact 1(586) -246 -6422
URL:https://cruisnmedia.com/events-calendar/utica-gasoline-alley-car-show/
LOCATION:City of Utica\, 7550 Auburn Road\, Utica\, MI
END:VEVENT
END:VCALENDAR