	
BEGIN:VCALENDAR
VERSION:2.0
PRODID:-//Cruis&#039;n Media - ECPv6.15.20//NONSGML v1.0//EN
CALSCALE:GREGORIAN
METHOD:PUBLISH
X-WR-CALNAME:Cruis&#039;n Media
X-ORIGINAL-URL:https://cruisnmedia.com
X-WR-CALDESC:Events for Cruis&#039;n Media
REFRESH-INTERVAL;VALUE=DURATION:PT1H
X-Robots-Tag:noindex
X-PUBLISHED-TTL:PT1H
BEGIN:VTIMEZONE
TZID:America/Detroit
BEGIN:DAYLIGHT
TZOFFSETFROM:-0500
TZOFFSETTO:-0400
TZNAME:EDT
DTSTART:20240310T070000
END:DAYLIGHT
BEGIN:STANDARD
TZOFFSETFROM:-0400
TZOFFSETTO:-0500
TZNAME:EST
DTSTART:20241103T060000
END:STANDARD
BEGIN:DAYLIGHT
TZOFFSETFROM:-0500
TZOFFSETTO:-0400
TZNAME:EDT
DTSTART:20250309T070000
END:DAYLIGHT
BEGIN:STANDARD
TZOFFSETFROM:-0400
TZOFFSETTO:-0500
TZNAME:EST
DTSTART:20251102T060000
END:STANDARD
BEGIN:DAYLIGHT
TZOFFSETFROM:-0500
TZOFFSETTO:-0400
TZNAME:EDT
DTSTART:20260308T070000
END:DAYLIGHT
BEGIN:STANDARD
TZOFFSETFROM:-0400
TZOFFSETTO:-0500
TZNAME:EST
DTSTART:20261101T060000
END:STANDARD
END:VTIMEZONE
BEGIN:VEVENT
DTSTART;TZID=America/Detroit:20250727T100000
DTEND;TZID=America/Detroit:20250727T150000
DTSTAMP:20260420T093214
CREATED:20250328T141349Z
LAST-MODIFIED:20250328T141349Z
UID:10006520-1753610400-1753628400@cruisnmedia.com
SUMMARY:Homer Historical Society Car\, Truck\, & Motorcycle Show
DESCRIPTION:For more information\, contact Dee at 517-524-7348
URL:https://cruisnmedia.com/events-calendar/homer-historical-society-car-truck-motorcycle-show/
LOCATION:Blair Historical Farm\, 26380 M-60\, Homer\, MI
ATTACH;FMTTYPE=image/jpeg:https://cruisnmedia.com/wp-content/uploads/2025/03/487504224_10162450583140861_5529429918703766054_n.jpg
END:VEVENT
BEGIN:VEVENT
DTSTART;TZID=America/Detroit:20250727T090000
DTEND;TZID=America/Detroit:20250727T150000
DTSTAMP:20260420T093214
CREATED:20250314T161745Z
LAST-MODIFIED:20250314T161806Z
UID:10006192-1753606800-1753628400@cruisnmedia.com
SUMMARY:The Annual Bruce Miller Vintage Car\, Truck\, and Motorcycle Show
DESCRIPTION:For more information\, contact Dee at (517) 524-7348 or visit http://homerhistoricalsociety.org/events.php#car_truck
URL:https://cruisnmedia.com/events-calendar/the-annual-bruce-miller-vintage-car-truck-and-motorcycle-show/
LOCATION:Blair Historical Farm\, 26380 M-60\, Homer\, MI
END:VEVENT
END:VCALENDAR