	
BEGIN:VCALENDAR
VERSION:2.0
PRODID:-//Cruis&#039;n Media - ECPv6.15.20//NONSGML v1.0//EN
CALSCALE:GREGORIAN
METHOD:PUBLISH
X-ORIGINAL-URL:https://cruisnmedia.com
X-WR-CALDESC:Events for Cruis&#039;n Media
REFRESH-INTERVAL;VALUE=DURATION:PT1H
X-Robots-Tag:noindex
X-PUBLISHED-TTL:PT1H
BEGIN:VTIMEZONE
TZID:America/Detroit
BEGIN:DAYLIGHT
TZOFFSETFROM:-0500
TZOFFSETTO:-0400
TZNAME:EDT
DTSTART:20250309T070000
END:DAYLIGHT
BEGIN:STANDARD
TZOFFSETFROM:-0400
TZOFFSETTO:-0500
TZNAME:EST
DTSTART:20251102T060000
END:STANDARD
BEGIN:DAYLIGHT
TZOFFSETFROM:-0500
TZOFFSETTO:-0400
TZNAME:EDT
DTSTART:20260308T070000
END:DAYLIGHT
BEGIN:STANDARD
TZOFFSETFROM:-0400
TZOFFSETTO:-0500
TZNAME:EST
DTSTART:20261101T060000
END:STANDARD
BEGIN:DAYLIGHT
TZOFFSETFROM:-0500
TZOFFSETTO:-0400
TZNAME:EDT
DTSTART:20270314T070000
END:DAYLIGHT
BEGIN:STANDARD
TZOFFSETFROM:-0400
TZOFFSETTO:-0500
TZNAME:EST
DTSTART:20271107T060000
END:STANDARD
END:VTIMEZONE
BEGIN:VEVENT
DTSTART;TZID=America/Detroit:20260927T120000
DTEND;TZID=America/Detroit:20260927T160000
DTSTAMP:20260419T153915
CREATED:20260409T151328Z
LAST-MODIFIED:20260409T151440Z
UID:10009057-1790510400-1790524800@cruisnmedia.com
SUMMARY:Classic Car Charity Meet Up
DESCRIPTION:You are invited to participate in Auto DR’s third annual Classic Car Meet Up – benefiting “NEIGHBORS HELPING NEIGHBORS” – assisting Macomb & St. Clair County Residents with car repairs at no cost to them. Highlights: Classic Cars; Food; Raffles/Give-A-Ways; Live Music. Let us know if you would like to bring your car and be part of our celebration – call us at 586-684-3368 x103.\nAuto DR | 10121 Radiance Drive | Ira Township | www.autodrx.com | Open M-F 8am-5pm
URL:https://cruisnmedia.com/events-calendar/classic-car-charity-meet-up/
LOCATION:Auto DRX\, 10121 Radiance Drive\, Ira Township\, MI
ATTACH;FMTTYPE=image/png:https://cruisnmedia.com/wp-content/uploads/2026/04/Car-Show-2026.png
END:VEVENT
END:VCALENDAR