	
BEGIN:VCALENDAR
VERSION:2.0
PRODID:-//Cruis&#039;n Media - ECPv6.15.20//NONSGML v1.0//EN
CALSCALE:GREGORIAN
METHOD:PUBLISH
X-ORIGINAL-URL:https://cruisnmedia.com
X-WR-CALDESC:Events for Cruis&#039;n Media
REFRESH-INTERVAL;VALUE=DURATION:PT1H
X-Robots-Tag:noindex
X-PUBLISHED-TTL:PT1H
BEGIN:VTIMEZONE
TZID:America/Detroit
BEGIN:DAYLIGHT
TZOFFSETFROM:-0500
TZOFFSETTO:-0400
TZNAME:EDT
DTSTART:20240310T070000
END:DAYLIGHT
BEGIN:STANDARD
TZOFFSETFROM:-0400
TZOFFSETTO:-0500
TZNAME:EST
DTSTART:20241103T060000
END:STANDARD
BEGIN:DAYLIGHT
TZOFFSETFROM:-0500
TZOFFSETTO:-0400
TZNAME:EDT
DTSTART:20250309T070000
END:DAYLIGHT
BEGIN:STANDARD
TZOFFSETFROM:-0400
TZOFFSETTO:-0500
TZNAME:EST
DTSTART:20251102T060000
END:STANDARD
BEGIN:DAYLIGHT
TZOFFSETFROM:-0500
TZOFFSETTO:-0400
TZNAME:EDT
DTSTART:20260308T070000
END:DAYLIGHT
BEGIN:STANDARD
TZOFFSETFROM:-0400
TZOFFSETTO:-0500
TZNAME:EST
DTSTART:20261101T060000
END:STANDARD
END:VTIMEZONE
BEGIN:VEVENT
DTSTART;TZID=America/Detroit:20250727T080000
DTEND;TZID=America/Detroit:20250727T150000
DTSTAMP:20260420T152551
CREATED:20250314T151437Z
LAST-MODIFIED:20250314T151437Z
UID:10006188-1753603200-1753628400@cruisnmedia.com
SUMMARY:Au Gres Cruisers Rock and Roll Weekend
DESCRIPTION:For more information\, contact 989-876-6655 or cruising.augres@gmail.com
URL:https://cruisnmedia.com/events-calendar/au-gres-cruisers-rock-and-roll-weekend/2025-07-27/
LOCATION:Au Gres Riverfront Campground\, 522 Park St\, Aug Gres\, MI
ATTACH;FMTTYPE=image/jpeg:https://cruisnmedia.com/wp-content/uploads/2025/03/479730478_976577467948704_2757240422812418408_n.jpg
END:VEVENT
BEGIN:VEVENT
DTSTART;TZID=America/Detroit:20250726T153000
DTEND;TZID=America/Detroit:20250726T230000
DTSTAMP:20260420T152551
CREATED:20250314T151437Z
LAST-MODIFIED:20250314T151437Z
UID:10006187-1753543800-1753570800@cruisnmedia.com
SUMMARY:Au Gres Cruisers Rock and Roll Weekend
DESCRIPTION:For more information\, contact 989-876-6655 or cruising.augres@gmail.com
URL:https://cruisnmedia.com/events-calendar/au-gres-cruisers-rock-and-roll-weekend/2025-07-26/
LOCATION:Au Gres Riverfront Campground\, 522 Park St\, Aug Gres\, MI
ATTACH;FMTTYPE=image/jpeg:https://cruisnmedia.com/wp-content/uploads/2025/03/479730478_976577467948704_2757240422812418408_n.jpg
END:VEVENT
END:VCALENDAR