	
BEGIN:VCALENDAR
VERSION:2.0
PRODID:-//Cruis&#039;n Media - ECPv6.15.20//NONSGML v1.0//EN
CALSCALE:GREGORIAN
METHOD:PUBLISH
X-ORIGINAL-URL:https://cruisnmedia.com
X-WR-CALDESC:Events for Cruis&#039;n Media
REFRESH-INTERVAL;VALUE=DURATION:PT1H
X-Robots-Tag:noindex
X-PUBLISHED-TTL:PT1H
BEGIN:VTIMEZONE
TZID:America/Detroit
BEGIN:DAYLIGHT
TZOFFSETFROM:-0500
TZOFFSETTO:-0400
TZNAME:EDT
DTSTART:20240310T070000
END:DAYLIGHT
BEGIN:STANDARD
TZOFFSETFROM:-0400
TZOFFSETTO:-0500
TZNAME:EST
DTSTART:20241103T060000
END:STANDARD
BEGIN:DAYLIGHT
TZOFFSETFROM:-0500
TZOFFSETTO:-0400
TZNAME:EDT
DTSTART:20250309T070000
END:DAYLIGHT
BEGIN:STANDARD
TZOFFSETFROM:-0400
TZOFFSETTO:-0500
TZNAME:EST
DTSTART:20251102T060000
END:STANDARD
BEGIN:DAYLIGHT
TZOFFSETFROM:-0500
TZOFFSETTO:-0400
TZNAME:EDT
DTSTART:20260308T070000
END:DAYLIGHT
BEGIN:STANDARD
TZOFFSETFROM:-0400
TZOFFSETTO:-0500
TZNAME:EST
DTSTART:20261101T060000
END:STANDARD
END:VTIMEZONE
BEGIN:VEVENT
DTSTART;TZID=America/Detroit:20251011T090000
DTEND;TZID=America/Detroit:20251011T180000
DTSTAMP:20260419T120841
CREATED:20250219T181451Z
LAST-MODIFIED:20250305T212147Z
UID:10005956-1760173200-1760205600@cruisnmedia.com
SUMMARY:Bar n Mud Bog
DESCRIPTION:Bar n Mud Bog located at 5340 SE Isabella County Line Rd.\, Shepherd\, MI 48883. In memory of Marvin Kendall (1951-2021). Bring friends and family to the local bog and have fun playing in the mud or socialize and watch the fun. \nFor more information\, contact barnmudbog@gmail.com
URL:https://cruisnmedia.com/events-calendar/bar-n-mug-bog/2025-10-11/
LOCATION:5340 SE Isabella County Line\, Shepherd\, MI\, 48883\, United States
ATTACH;FMTTYPE=image/jpeg:https://cruisnmedia.com/wp-content/uploads/2025/02/474320837_9511347818876982_3814924713580988603_n.jpg
END:VEVENT
BEGIN:VEVENT
DTSTART;TZID=America/Detroit:20250927T090000
DTEND;TZID=America/Detroit:20250927T180000
DTSTAMP:20260419T120841
CREATED:20250219T181451Z
LAST-MODIFIED:20250305T212147Z
UID:10005955-1758963600-1758996000@cruisnmedia.com
SUMMARY:Bar n Mud Bog
DESCRIPTION:Bar n Mud Bog located at 5340 SE Isabella County Line Rd.\, Shepherd\, MI 48883. In memory of Marvin Kendall (1951-2021). Bring friends and family to the local bog and have fun playing in the mud or socialize and watch the fun. \nFor more information\, contact barnmudbog@gmail.com
URL:https://cruisnmedia.com/events-calendar/bar-n-mug-bog/2025-09-27/
LOCATION:5340 SE Isabella County Line\, Shepherd\, MI\, 48883\, United States
ATTACH;FMTTYPE=image/jpeg:https://cruisnmedia.com/wp-content/uploads/2025/02/474320837_9511347818876982_3814924713580988603_n.jpg
END:VEVENT
BEGIN:VEVENT
DTSTART;TZID=America/Detroit:20250712T090000
DTEND;TZID=America/Detroit:20250712T180000
DTSTAMP:20260419T120841
CREATED:20250219T181451Z
LAST-MODIFIED:20250305T212147Z
UID:10005954-1752310800-1752343200@cruisnmedia.com
SUMMARY:Bar n Mud Bog
DESCRIPTION:Bar n Mud Bog located at 5340 SE Isabella County Line Rd.\, Shepherd\, MI 48883. In memory of Marvin Kendall (1951-2021). Bring friends and family to the local bog and have fun playing in the mud or socialize and watch the fun. \nFor more information\, contact barnmudbog@gmail.com
URL:https://cruisnmedia.com/events-calendar/bar-n-mug-bog/2025-07-12/
LOCATION:5340 SE Isabella County Line\, Shepherd\, MI\, 48883\, United States
ATTACH;FMTTYPE=image/jpeg:https://cruisnmedia.com/wp-content/uploads/2025/02/474320837_9511347818876982_3814924713580988603_n.jpg
END:VEVENT
BEGIN:VEVENT
DTSTART;TZID=America/Detroit:20250621T090000
DTEND;TZID=America/Detroit:20250621T180000
DTSTAMP:20260419T120841
CREATED:20250219T181451Z
LAST-MODIFIED:20250305T212147Z
UID:10005953-1750496400-1750528800@cruisnmedia.com
SUMMARY:Bar n Mud Bog
DESCRIPTION:Bar n Mud Bog located at 5340 SE Isabella County Line Rd.\, Shepherd\, MI 48883. In memory of Marvin Kendall (1951-2021). Bring friends and family to the local bog and have fun playing in the mud or socialize and watch the fun. \nFor more information\, contact barnmudbog@gmail.com
URL:https://cruisnmedia.com/events-calendar/bar-n-mug-bog/2025-06-21/
LOCATION:5340 SE Isabella County Line\, Shepherd\, MI\, 48883\, United States
ATTACH;FMTTYPE=image/jpeg:https://cruisnmedia.com/wp-content/uploads/2025/02/474320837_9511347818876982_3814924713580988603_n.jpg
END:VEVENT
END:VCALENDAR