	
BEGIN:VCALENDAR
VERSION:2.0
PRODID:-//Cruis&#039;n Media - ECPv6.15.20//NONSGML v1.0//EN
CALSCALE:GREGORIAN
METHOD:PUBLISH
X-WR-CALNAME:Cruis&#039;n Media
X-ORIGINAL-URL:https://cruisnmedia.com
X-WR-CALDESC:Events for Cruis&#039;n Media
REFRESH-INTERVAL;VALUE=DURATION:PT1H
X-Robots-Tag:noindex
X-PUBLISHED-TTL:PT1H
BEGIN:VTIMEZONE
TZID:America/Detroit
BEGIN:DAYLIGHT
TZOFFSETFROM:-0500
TZOFFSETTO:-0400
TZNAME:EDT
DTSTART:20250309T070000
END:DAYLIGHT
BEGIN:STANDARD
TZOFFSETFROM:-0400
TZOFFSETTO:-0500
TZNAME:EST
DTSTART:20251102T060000
END:STANDARD
BEGIN:DAYLIGHT
TZOFFSETFROM:-0500
TZOFFSETTO:-0400
TZNAME:EDT
DTSTART:20260308T070000
END:DAYLIGHT
BEGIN:STANDARD
TZOFFSETFROM:-0400
TZOFFSETTO:-0500
TZNAME:EST
DTSTART:20261101T060000
END:STANDARD
BEGIN:DAYLIGHT
TZOFFSETFROM:-0500
TZOFFSETTO:-0400
TZNAME:EDT
DTSTART:20270314T070000
END:DAYLIGHT
BEGIN:STANDARD
TZOFFSETFROM:-0400
TZOFFSETTO:-0500
TZNAME:EST
DTSTART:20271107T060000
END:STANDARD
END:VTIMEZONE
BEGIN:VEVENT
DTSTART;TZID=America/Detroit:20260429T163000
DTEND;TZID=America/Detroit:20260429T200000
DTSTAMP:20260419T114035
CREATED:20260316T190322Z
LAST-MODIFIED:20260316T190409Z
UID:10008188-1777480200-1777492800@cruisnmedia.com
SUMMARY:Wednesday Cruise Night - Roam'n Chariots
DESCRIPTION:Beginning Wednesday\, April 29\, 2026 (each week weather permitting).\nSandtrap (Riverview Highlands Golf) 2nd street light from Allen or Fort)\nAll Makes\, Models\, Years welcomed\n4:30 – 8 pm \nFor more information\, contact roamnchariots@comcast.net
URL:https://cruisnmedia.com/events-calendar/wednesday-cruise-night-roamn-chariots/2026-04-29/
LOCATION:Sandtrap/Sportsmen’s Den\, 15001 Sibley Road\, Riverview\, MI
CATEGORIES:Cruise Nights
ATTACH;FMTTYPE=image/jpeg:https://cruisnmedia.com/wp-content/uploads/2026/03/new-location-Wed-color-scaled.jpg
END:VEVENT
BEGIN:VEVENT
DTSTART;TZID=America/Detroit:20260506T163000
DTEND;TZID=America/Detroit:20260506T200000
DTSTAMP:20260419T114035
CREATED:20260316T190322Z
LAST-MODIFIED:20260316T190409Z
UID:10008189-1778085000-1778097600@cruisnmedia.com
SUMMARY:Wednesday Cruise Night - Roam'n Chariots
DESCRIPTION:Beginning Wednesday\, April 29\, 2026 (each week weather permitting).\nSandtrap (Riverview Highlands Golf) 2nd street light from Allen or Fort)\nAll Makes\, Models\, Years welcomed\n4:30 – 8 pm \nFor more information\, contact roamnchariots@comcast.net
URL:https://cruisnmedia.com/events-calendar/wednesday-cruise-night-roamn-chariots/2026-05-06/
LOCATION:Sandtrap/Sportsmen’s Den\, 15001 Sibley Road\, Riverview\, MI
CATEGORIES:Cruise Nights
ATTACH;FMTTYPE=image/jpeg:https://cruisnmedia.com/wp-content/uploads/2026/03/new-location-Wed-color-scaled.jpg
END:VEVENT
BEGIN:VEVENT
DTSTART;TZID=America/Detroit:20260513T163000
DTEND;TZID=America/Detroit:20260513T200000
DTSTAMP:20260419T114035
CREATED:20260316T190322Z
LAST-MODIFIED:20260316T190409Z
UID:10008190-1778689800-1778702400@cruisnmedia.com
SUMMARY:Wednesday Cruise Night - Roam'n Chariots
DESCRIPTION:Beginning Wednesday\, April 29\, 2026 (each week weather permitting).\nSandtrap (Riverview Highlands Golf) 2nd street light from Allen or Fort)\nAll Makes\, Models\, Years welcomed\n4:30 – 8 pm \nFor more information\, contact roamnchariots@comcast.net
URL:https://cruisnmedia.com/events-calendar/wednesday-cruise-night-roamn-chariots/2026-05-13/
LOCATION:Sandtrap/Sportsmen’s Den\, 15001 Sibley Road\, Riverview\, MI
CATEGORIES:Cruise Nights
ATTACH;FMTTYPE=image/jpeg:https://cruisnmedia.com/wp-content/uploads/2026/03/new-location-Wed-color-scaled.jpg
END:VEVENT
BEGIN:VEVENT
DTSTART;TZID=America/Detroit:20260520T163000
DTEND;TZID=America/Detroit:20260520T200000
DTSTAMP:20260419T114035
CREATED:20260316T190322Z
LAST-MODIFIED:20260316T190409Z
UID:10008191-1779294600-1779307200@cruisnmedia.com
SUMMARY:Wednesday Cruise Night - Roam'n Chariots
DESCRIPTION:Beginning Wednesday\, April 29\, 2026 (each week weather permitting).\nSandtrap (Riverview Highlands Golf) 2nd street light from Allen or Fort)\nAll Makes\, Models\, Years welcomed\n4:30 – 8 pm \nFor more information\, contact roamnchariots@comcast.net
URL:https://cruisnmedia.com/events-calendar/wednesday-cruise-night-roamn-chariots/2026-05-20/
LOCATION:Sandtrap/Sportsmen’s Den\, 15001 Sibley Road\, Riverview\, MI
CATEGORIES:Cruise Nights
ATTACH;FMTTYPE=image/jpeg:https://cruisnmedia.com/wp-content/uploads/2026/03/new-location-Wed-color-scaled.jpg
END:VEVENT
BEGIN:VEVENT
DTSTART;TZID=America/Detroit:20260527T163000
DTEND;TZID=America/Detroit:20260527T200000
DTSTAMP:20260419T114035
CREATED:20260316T190322Z
LAST-MODIFIED:20260316T190409Z
UID:10008192-1779899400-1779912000@cruisnmedia.com
SUMMARY:Wednesday Cruise Night - Roam'n Chariots
DESCRIPTION:Beginning Wednesday\, April 29\, 2026 (each week weather permitting).\nSandtrap (Riverview Highlands Golf) 2nd street light from Allen or Fort)\nAll Makes\, Models\, Years welcomed\n4:30 – 8 pm \nFor more information\, contact roamnchariots@comcast.net
URL:https://cruisnmedia.com/events-calendar/wednesday-cruise-night-roamn-chariots/2026-05-27/
LOCATION:Sandtrap/Sportsmen’s Den\, 15001 Sibley Road\, Riverview\, MI
CATEGORIES:Cruise Nights
ATTACH;FMTTYPE=image/jpeg:https://cruisnmedia.com/wp-content/uploads/2026/03/new-location-Wed-color-scaled.jpg
END:VEVENT
BEGIN:VEVENT
DTSTART;TZID=America/Detroit:20260603T163000
DTEND;TZID=America/Detroit:20260603T200000
DTSTAMP:20260419T114035
CREATED:20260316T190322Z
LAST-MODIFIED:20260316T190409Z
UID:10008193-1780504200-1780516800@cruisnmedia.com
SUMMARY:Wednesday Cruise Night - Roam'n Chariots
DESCRIPTION:Beginning Wednesday\, April 29\, 2026 (each week weather permitting).\nSandtrap (Riverview Highlands Golf) 2nd street light from Allen or Fort)\nAll Makes\, Models\, Years welcomed\n4:30 – 8 pm \nFor more information\, contact roamnchariots@comcast.net
URL:https://cruisnmedia.com/events-calendar/wednesday-cruise-night-roamn-chariots/2026-06-03/
LOCATION:Sandtrap/Sportsmen’s Den\, 15001 Sibley Road\, Riverview\, MI
CATEGORIES:Cruise Nights
ATTACH;FMTTYPE=image/jpeg:https://cruisnmedia.com/wp-content/uploads/2026/03/new-location-Wed-color-scaled.jpg
END:VEVENT
BEGIN:VEVENT
DTSTART;TZID=America/Detroit:20260610T163000
DTEND;TZID=America/Detroit:20260610T200000
DTSTAMP:20260419T114035
CREATED:20260316T190322Z
LAST-MODIFIED:20260316T190409Z
UID:10008194-1781109000-1781121600@cruisnmedia.com
SUMMARY:Wednesday Cruise Night - Roam'n Chariots
DESCRIPTION:Beginning Wednesday\, April 29\, 2026 (each week weather permitting).\nSandtrap (Riverview Highlands Golf) 2nd street light from Allen or Fort)\nAll Makes\, Models\, Years welcomed\n4:30 – 8 pm \nFor more information\, contact roamnchariots@comcast.net
URL:https://cruisnmedia.com/events-calendar/wednesday-cruise-night-roamn-chariots/2026-06-10/
LOCATION:Sandtrap/Sportsmen’s Den\, 15001 Sibley Road\, Riverview\, MI
CATEGORIES:Cruise Nights
ATTACH;FMTTYPE=image/jpeg:https://cruisnmedia.com/wp-content/uploads/2026/03/new-location-Wed-color-scaled.jpg
END:VEVENT
BEGIN:VEVENT
DTSTART;TZID=America/Detroit:20260617T163000
DTEND;TZID=America/Detroit:20260617T200000
DTSTAMP:20260419T114035
CREATED:20260316T190322Z
LAST-MODIFIED:20260316T190409Z
UID:10008195-1781713800-1781726400@cruisnmedia.com
SUMMARY:Wednesday Cruise Night - Roam'n Chariots
DESCRIPTION:Beginning Wednesday\, April 29\, 2026 (each week weather permitting).\nSandtrap (Riverview Highlands Golf) 2nd street light from Allen or Fort)\nAll Makes\, Models\, Years welcomed\n4:30 – 8 pm \nFor more information\, contact roamnchariots@comcast.net
URL:https://cruisnmedia.com/events-calendar/wednesday-cruise-night-roamn-chariots/2026-06-17/
LOCATION:Sandtrap/Sportsmen’s Den\, 15001 Sibley Road\, Riverview\, MI
CATEGORIES:Cruise Nights
ATTACH;FMTTYPE=image/jpeg:https://cruisnmedia.com/wp-content/uploads/2026/03/new-location-Wed-color-scaled.jpg
END:VEVENT
BEGIN:VEVENT
DTSTART;TZID=America/Detroit:20260624T163000
DTEND;TZID=America/Detroit:20260624T200000
DTSTAMP:20260419T114035
CREATED:20260316T190322Z
LAST-MODIFIED:20260316T190409Z
UID:10008196-1782318600-1782331200@cruisnmedia.com
SUMMARY:Wednesday Cruise Night - Roam'n Chariots
DESCRIPTION:Beginning Wednesday\, April 29\, 2026 (each week weather permitting).\nSandtrap (Riverview Highlands Golf) 2nd street light from Allen or Fort)\nAll Makes\, Models\, Years welcomed\n4:30 – 8 pm \nFor more information\, contact roamnchariots@comcast.net
URL:https://cruisnmedia.com/events-calendar/wednesday-cruise-night-roamn-chariots/2026-06-24/
LOCATION:Sandtrap/Sportsmen’s Den\, 15001 Sibley Road\, Riverview\, MI
CATEGORIES:Cruise Nights
ATTACH;FMTTYPE=image/jpeg:https://cruisnmedia.com/wp-content/uploads/2026/03/new-location-Wed-color-scaled.jpg
END:VEVENT
BEGIN:VEVENT
DTSTART;TZID=America/Detroit:20260701T163000
DTEND;TZID=America/Detroit:20260701T200000
DTSTAMP:20260419T114035
CREATED:20260316T190322Z
LAST-MODIFIED:20260316T190409Z
UID:10008197-1782923400-1782936000@cruisnmedia.com
SUMMARY:Wednesday Cruise Night - Roam'n Chariots
DESCRIPTION:Beginning Wednesday\, April 29\, 2026 (each week weather permitting).\nSandtrap (Riverview Highlands Golf) 2nd street light from Allen or Fort)\nAll Makes\, Models\, Years welcomed\n4:30 – 8 pm \nFor more information\, contact roamnchariots@comcast.net
URL:https://cruisnmedia.com/events-calendar/wednesday-cruise-night-roamn-chariots/2026-07-01/
LOCATION:Sandtrap/Sportsmen’s Den\, 15001 Sibley Road\, Riverview\, MI
CATEGORIES:Cruise Nights
ATTACH;FMTTYPE=image/jpeg:https://cruisnmedia.com/wp-content/uploads/2026/03/new-location-Wed-color-scaled.jpg
END:VEVENT
BEGIN:VEVENT
DTSTART;TZID=America/Detroit:20260708T163000
DTEND;TZID=America/Detroit:20260708T200000
DTSTAMP:20260419T114035
CREATED:20260316T190322Z
LAST-MODIFIED:20260316T190409Z
UID:10008198-1783528200-1783540800@cruisnmedia.com
SUMMARY:Wednesday Cruise Night - Roam'n Chariots
DESCRIPTION:Beginning Wednesday\, April 29\, 2026 (each week weather permitting).\nSandtrap (Riverview Highlands Golf) 2nd street light from Allen or Fort)\nAll Makes\, Models\, Years welcomed\n4:30 – 8 pm \nFor more information\, contact roamnchariots@comcast.net
URL:https://cruisnmedia.com/events-calendar/wednesday-cruise-night-roamn-chariots/2026-07-08/
LOCATION:Sandtrap/Sportsmen’s Den\, 15001 Sibley Road\, Riverview\, MI
CATEGORIES:Cruise Nights
ATTACH;FMTTYPE=image/jpeg:https://cruisnmedia.com/wp-content/uploads/2026/03/new-location-Wed-color-scaled.jpg
END:VEVENT
BEGIN:VEVENT
DTSTART;TZID=America/Detroit:20260715T163000
DTEND;TZID=America/Detroit:20260715T200000
DTSTAMP:20260419T114035
CREATED:20260316T190322Z
LAST-MODIFIED:20260316T190409Z
UID:10008199-1784133000-1784145600@cruisnmedia.com
SUMMARY:Wednesday Cruise Night - Roam'n Chariots
DESCRIPTION:Beginning Wednesday\, April 29\, 2026 (each week weather permitting).\nSandtrap (Riverview Highlands Golf) 2nd street light from Allen or Fort)\nAll Makes\, Models\, Years welcomed\n4:30 – 8 pm \nFor more information\, contact roamnchariots@comcast.net
URL:https://cruisnmedia.com/events-calendar/wednesday-cruise-night-roamn-chariots/2026-07-15/
LOCATION:Sandtrap/Sportsmen’s Den\, 15001 Sibley Road\, Riverview\, MI
CATEGORIES:Cruise Nights
ATTACH;FMTTYPE=image/jpeg:https://cruisnmedia.com/wp-content/uploads/2026/03/new-location-Wed-color-scaled.jpg
END:VEVENT
BEGIN:VEVENT
DTSTART;TZID=America/Detroit:20260722T163000
DTEND;TZID=America/Detroit:20260722T200000
DTSTAMP:20260419T114035
CREATED:20260316T190322Z
LAST-MODIFIED:20260316T190409Z
UID:10008200-1784737800-1784750400@cruisnmedia.com
SUMMARY:Wednesday Cruise Night - Roam'n Chariots
DESCRIPTION:Beginning Wednesday\, April 29\, 2026 (each week weather permitting).\nSandtrap (Riverview Highlands Golf) 2nd street light from Allen or Fort)\nAll Makes\, Models\, Years welcomed\n4:30 – 8 pm \nFor more information\, contact roamnchariots@comcast.net
URL:https://cruisnmedia.com/events-calendar/wednesday-cruise-night-roamn-chariots/2026-07-22/
LOCATION:Sandtrap/Sportsmen’s Den\, 15001 Sibley Road\, Riverview\, MI
CATEGORIES:Cruise Nights
ATTACH;FMTTYPE=image/jpeg:https://cruisnmedia.com/wp-content/uploads/2026/03/new-location-Wed-color-scaled.jpg
END:VEVENT
BEGIN:VEVENT
DTSTART;TZID=America/Detroit:20260729T163000
DTEND;TZID=America/Detroit:20260729T200000
DTSTAMP:20260419T114035
CREATED:20260316T190322Z
LAST-MODIFIED:20260316T190409Z
UID:10008201-1785342600-1785355200@cruisnmedia.com
SUMMARY:Wednesday Cruise Night - Roam'n Chariots
DESCRIPTION:Beginning Wednesday\, April 29\, 2026 (each week weather permitting).\nSandtrap (Riverview Highlands Golf) 2nd street light from Allen or Fort)\nAll Makes\, Models\, Years welcomed\n4:30 – 8 pm \nFor more information\, contact roamnchariots@comcast.net
URL:https://cruisnmedia.com/events-calendar/wednesday-cruise-night-roamn-chariots/2026-07-29/
LOCATION:Sandtrap/Sportsmen’s Den\, 15001 Sibley Road\, Riverview\, MI
CATEGORIES:Cruise Nights
ATTACH;FMTTYPE=image/jpeg:https://cruisnmedia.com/wp-content/uploads/2026/03/new-location-Wed-color-scaled.jpg
END:VEVENT
BEGIN:VEVENT
DTSTART;TZID=America/Detroit:20260805T163000
DTEND;TZID=America/Detroit:20260805T200000
DTSTAMP:20260419T114035
CREATED:20260316T190322Z
LAST-MODIFIED:20260316T190409Z
UID:10008202-1785947400-1785960000@cruisnmedia.com
SUMMARY:Wednesday Cruise Night - Roam'n Chariots
DESCRIPTION:Beginning Wednesday\, April 29\, 2026 (each week weather permitting).\nSandtrap (Riverview Highlands Golf) 2nd street light from Allen or Fort)\nAll Makes\, Models\, Years welcomed\n4:30 – 8 pm \nFor more information\, contact roamnchariots@comcast.net
URL:https://cruisnmedia.com/events-calendar/wednesday-cruise-night-roamn-chariots/2026-08-05/
LOCATION:Sandtrap/Sportsmen’s Den\, 15001 Sibley Road\, Riverview\, MI
CATEGORIES:Cruise Nights
ATTACH;FMTTYPE=image/jpeg:https://cruisnmedia.com/wp-content/uploads/2026/03/new-location-Wed-color-scaled.jpg
END:VEVENT
BEGIN:VEVENT
DTSTART;TZID=America/Detroit:20260812T163000
DTEND;TZID=America/Detroit:20260812T200000
DTSTAMP:20260419T114035
CREATED:20260316T190322Z
LAST-MODIFIED:20260316T190409Z
UID:10008203-1786552200-1786564800@cruisnmedia.com
SUMMARY:Wednesday Cruise Night - Roam'n Chariots
DESCRIPTION:Beginning Wednesday\, April 29\, 2026 (each week weather permitting).\nSandtrap (Riverview Highlands Golf) 2nd street light from Allen or Fort)\nAll Makes\, Models\, Years welcomed\n4:30 – 8 pm \nFor more information\, contact roamnchariots@comcast.net
URL:https://cruisnmedia.com/events-calendar/wednesday-cruise-night-roamn-chariots/2026-08-12/
LOCATION:Sandtrap/Sportsmen’s Den\, 15001 Sibley Road\, Riverview\, MI
CATEGORIES:Cruise Nights
ATTACH;FMTTYPE=image/jpeg:https://cruisnmedia.com/wp-content/uploads/2026/03/new-location-Wed-color-scaled.jpg
END:VEVENT
BEGIN:VEVENT
DTSTART;TZID=America/Detroit:20260819T163000
DTEND;TZID=America/Detroit:20260819T200000
DTSTAMP:20260419T114035
CREATED:20260316T190322Z
LAST-MODIFIED:20260316T190409Z
UID:10008204-1787157000-1787169600@cruisnmedia.com
SUMMARY:Wednesday Cruise Night - Roam'n Chariots
DESCRIPTION:Beginning Wednesday\, April 29\, 2026 (each week weather permitting).\nSandtrap (Riverview Highlands Golf) 2nd street light from Allen or Fort)\nAll Makes\, Models\, Years welcomed\n4:30 – 8 pm \nFor more information\, contact roamnchariots@comcast.net
URL:https://cruisnmedia.com/events-calendar/wednesday-cruise-night-roamn-chariots/2026-08-19/
LOCATION:Sandtrap/Sportsmen’s Den\, 15001 Sibley Road\, Riverview\, MI
CATEGORIES:Cruise Nights
ATTACH;FMTTYPE=image/jpeg:https://cruisnmedia.com/wp-content/uploads/2026/03/new-location-Wed-color-scaled.jpg
END:VEVENT
BEGIN:VEVENT
DTSTART;TZID=America/Detroit:20260826T163000
DTEND;TZID=America/Detroit:20260826T200000
DTSTAMP:20260419T114035
CREATED:20260316T190322Z
LAST-MODIFIED:20260316T190409Z
UID:10008205-1787761800-1787774400@cruisnmedia.com
SUMMARY:Wednesday Cruise Night - Roam'n Chariots
DESCRIPTION:Beginning Wednesday\, April 29\, 2026 (each week weather permitting).\nSandtrap (Riverview Highlands Golf) 2nd street light from Allen or Fort)\nAll Makes\, Models\, Years welcomed\n4:30 – 8 pm \nFor more information\, contact roamnchariots@comcast.net
URL:https://cruisnmedia.com/events-calendar/wednesday-cruise-night-roamn-chariots/2026-08-26/
LOCATION:Sandtrap/Sportsmen’s Den\, 15001 Sibley Road\, Riverview\, MI
CATEGORIES:Cruise Nights
ATTACH;FMTTYPE=image/jpeg:https://cruisnmedia.com/wp-content/uploads/2026/03/new-location-Wed-color-scaled.jpg
END:VEVENT
BEGIN:VEVENT
DTSTART;TZID=America/Detroit:20260902T163000
DTEND;TZID=America/Detroit:20260902T200000
DTSTAMP:20260419T114035
CREATED:20260316T190322Z
LAST-MODIFIED:20260316T190409Z
UID:10008206-1788366600-1788379200@cruisnmedia.com
SUMMARY:Wednesday Cruise Night - Roam'n Chariots
DESCRIPTION:Beginning Wednesday\, April 29\, 2026 (each week weather permitting).\nSandtrap (Riverview Highlands Golf) 2nd street light from Allen or Fort)\nAll Makes\, Models\, Years welcomed\n4:30 – 8 pm \nFor more information\, contact roamnchariots@comcast.net
URL:https://cruisnmedia.com/events-calendar/wednesday-cruise-night-roamn-chariots/2026-09-02/
LOCATION:Sandtrap/Sportsmen’s Den\, 15001 Sibley Road\, Riverview\, MI
CATEGORIES:Cruise Nights
ATTACH;FMTTYPE=image/jpeg:https://cruisnmedia.com/wp-content/uploads/2026/03/new-location-Wed-color-scaled.jpg
END:VEVENT
BEGIN:VEVENT
DTSTART;TZID=America/Detroit:20260909T163000
DTEND;TZID=America/Detroit:20260909T200000
DTSTAMP:20260419T114035
CREATED:20260316T190322Z
LAST-MODIFIED:20260316T190409Z
UID:10008207-1788971400-1788984000@cruisnmedia.com
SUMMARY:Wednesday Cruise Night - Roam'n Chariots
DESCRIPTION:Beginning Wednesday\, April 29\, 2026 (each week weather permitting).\nSandtrap (Riverview Highlands Golf) 2nd street light from Allen or Fort)\nAll Makes\, Models\, Years welcomed\n4:30 – 8 pm \nFor more information\, contact roamnchariots@comcast.net
URL:https://cruisnmedia.com/events-calendar/wednesday-cruise-night-roamn-chariots/2026-09-09/
LOCATION:Sandtrap/Sportsmen’s Den\, 15001 Sibley Road\, Riverview\, MI
CATEGORIES:Cruise Nights
ATTACH;FMTTYPE=image/jpeg:https://cruisnmedia.com/wp-content/uploads/2026/03/new-location-Wed-color-scaled.jpg
END:VEVENT
BEGIN:VEVENT
DTSTART;TZID=America/Detroit:20260916T163000
DTEND;TZID=America/Detroit:20260916T200000
DTSTAMP:20260419T114035
CREATED:20260316T190322Z
LAST-MODIFIED:20260316T190409Z
UID:10008208-1789576200-1789588800@cruisnmedia.com
SUMMARY:Wednesday Cruise Night - Roam'n Chariots
DESCRIPTION:Beginning Wednesday\, April 29\, 2026 (each week weather permitting).\nSandtrap (Riverview Highlands Golf) 2nd street light from Allen or Fort)\nAll Makes\, Models\, Years welcomed\n4:30 – 8 pm \nFor more information\, contact roamnchariots@comcast.net
URL:https://cruisnmedia.com/events-calendar/wednesday-cruise-night-roamn-chariots/2026-09-16/
LOCATION:Sandtrap/Sportsmen’s Den\, 15001 Sibley Road\, Riverview\, MI
CATEGORIES:Cruise Nights
ATTACH;FMTTYPE=image/jpeg:https://cruisnmedia.com/wp-content/uploads/2026/03/new-location-Wed-color-scaled.jpg
END:VEVENT
BEGIN:VEVENT
DTSTART;TZID=America/Detroit:20260923T163000
DTEND;TZID=America/Detroit:20260923T200000
DTSTAMP:20260419T114035
CREATED:20260316T190322Z
LAST-MODIFIED:20260316T190409Z
UID:10008209-1790181000-1790193600@cruisnmedia.com
SUMMARY:Wednesday Cruise Night - Roam'n Chariots
DESCRIPTION:Beginning Wednesday\, April 29\, 2026 (each week weather permitting).\nSandtrap (Riverview Highlands Golf) 2nd street light from Allen or Fort)\nAll Makes\, Models\, Years welcomed\n4:30 – 8 pm \nFor more information\, contact roamnchariots@comcast.net
URL:https://cruisnmedia.com/events-calendar/wednesday-cruise-night-roamn-chariots/2026-09-23/
LOCATION:Sandtrap/Sportsmen’s Den\, 15001 Sibley Road\, Riverview\, MI
CATEGORIES:Cruise Nights
ATTACH;FMTTYPE=image/jpeg:https://cruisnmedia.com/wp-content/uploads/2026/03/new-location-Wed-color-scaled.jpg
END:VEVENT
BEGIN:VEVENT
DTSTART;TZID=America/Detroit:20260930T163000
DTEND;TZID=America/Detroit:20260930T200000
DTSTAMP:20260419T114035
CREATED:20260316T190322Z
LAST-MODIFIED:20260316T190409Z
UID:10008210-1790785800-1790798400@cruisnmedia.com
SUMMARY:Wednesday Cruise Night - Roam'n Chariots
DESCRIPTION:Beginning Wednesday\, April 29\, 2026 (each week weather permitting).\nSandtrap (Riverview Highlands Golf) 2nd street light from Allen or Fort)\nAll Makes\, Models\, Years welcomed\n4:30 – 8 pm \nFor more information\, contact roamnchariots@comcast.net
URL:https://cruisnmedia.com/events-calendar/wednesday-cruise-night-roamn-chariots/2026-09-30/
LOCATION:Sandtrap/Sportsmen’s Den\, 15001 Sibley Road\, Riverview\, MI
CATEGORIES:Cruise Nights
ATTACH;FMTTYPE=image/jpeg:https://cruisnmedia.com/wp-content/uploads/2026/03/new-location-Wed-color-scaled.jpg
END:VEVENT
END:VCALENDAR