	
BEGIN:VCALENDAR
VERSION:2.0
PRODID:-//Cruis&#039;n Media - ECPv6.15.20//NONSGML v1.0//EN
CALSCALE:GREGORIAN
METHOD:PUBLISH
X-ORIGINAL-URL:https://cruisnmedia.com
X-WR-CALDESC:Events for Cruis&#039;n Media
REFRESH-INTERVAL;VALUE=DURATION:PT1H
X-Robots-Tag:noindex
X-PUBLISHED-TTL:PT1H
BEGIN:VTIMEZONE
TZID:America/Detroit
BEGIN:DAYLIGHT
TZOFFSETFROM:-0500
TZOFFSETTO:-0400
TZNAME:EDT
DTSTART:20250309T070000
END:DAYLIGHT
BEGIN:STANDARD
TZOFFSETFROM:-0400
TZOFFSETTO:-0500
TZNAME:EST
DTSTART:20251102T060000
END:STANDARD
BEGIN:DAYLIGHT
TZOFFSETFROM:-0500
TZOFFSETTO:-0400
TZNAME:EDT
DTSTART:20260308T070000
END:DAYLIGHT
BEGIN:STANDARD
TZOFFSETFROM:-0400
TZOFFSETTO:-0500
TZNAME:EST
DTSTART:20261101T060000
END:STANDARD
BEGIN:DAYLIGHT
TZOFFSETFROM:-0500
TZOFFSETTO:-0400
TZNAME:EDT
DTSTART:20270314T070000
END:DAYLIGHT
BEGIN:STANDARD
TZOFFSETFROM:-0400
TZOFFSETTO:-0500
TZNAME:EST
DTSTART:20271107T060000
END:STANDARD
END:VTIMEZONE
BEGIN:VEVENT
DTSTART;TZID=America/Detroit:20260418T180000
DTEND;TZID=America/Detroit:20260418T210000
DTSTAMP:20260419T115408
CREATED:20260215T162710Z
LAST-MODIFIED:20260215T162710Z
UID:10007980-1776535200-1776546000@cruisnmedia.com
SUMMARY:Chesaning Cruze Night
DESCRIPTION:For more information\, visit https://www.facebook.com/p/Chesaning-Cruze-night-100057053156475/
URL:https://cruisnmedia.com/events-calendar/chesaning-cruze-night/2026-04-18/
LOCATION:Downtown Chesaning\, Chesaning\, MI
ATTACH;FMTTYPE=image/jpeg:https://cruisnmedia.com/wp-content/uploads/2026/02/2804555f-311a-4c07-b16a-3e0535305e8a.jpg
END:VEVENT
BEGIN:VEVENT
DTSTART;TZID=America/Detroit:20260418T110000
DTEND;TZID=America/Detroit:20260418T200000
DTSTAMP:20260419T115408
CREATED:20260126T193855Z
LAST-MODIFIED:20260126T193855Z
UID:10007733-1776510000-1776542400@cruisnmedia.com
SUMMARY:The Vault: Indoor Mall Car Show
DESCRIPTION:A curated indoor & outdoor car show bringing together some of the best builds in the region — set inside and around a live shopping mall. Expect top-tier cars\, trophies\, music\, food\, and stores all day long.\n Trophies Music Food Stores\n Car & Vendor Info:• Indoor Mall Parking: $65• Outdoor Show Parking: $30• Vendor Space (10’x15’): $125\n Car registration opens publicly January 1\, 2026\n Register via thefoat.com and search “The Vault”\nThis is one you don’t want to miss. More details coming soon (trophies\, sponsors\, appearances\, etc)\nECS Tuning has donated an abundance of items for our cars indoors AND for all the attendees!! Find the Route Stars booth to get a raffle ticket for a chance to win some items! (More info coming soon)
URL:https://cruisnmedia.com/events-calendar/the-vault-indoor-mall-car-show/
LOCATION:The Ontario Center\, 2209 Richland Mall\, Mansfield\, OH
ATTACH;FMTTYPE=image/jpeg:https://cruisnmedia.com/wp-content/uploads/2026/01/600986919_122107792143142920_4988173345749302691_n-scaled.jpg
END:VEVENT
BEGIN:VEVENT
DTSTART;TZID=America/Detroit:20260418T110000
DTEND;TZID=America/Detroit:20260418T190000
DTSTAMP:20260419T115408
CREATED:20260202T192245Z
LAST-MODIFIED:20260202T192245Z
UID:10007894-1776510000-1776538800@cruisnmedia.com
SUMMARY:No Rollin around Da Shine Car Show
DESCRIPTION:
URL:https://cruisnmedia.com/events-calendar/no-rollin-around-da-shine-car-show/
LOCATION:5146 E O Ave\, Kalamazoo\, MI
ATTACH;FMTTYPE=image/jpeg:https://cruisnmedia.com/wp-content/uploads/2026/02/624595834_10164293820962745_5988919651554695111_n.jpg
END:VEVENT
BEGIN:VEVENT
DTSTART;TZID=America/Detroit:20260418T110000
DTEND;TZID=America/Detroit:20260418T170000
DTSTAMP:20260419T115408
CREATED:20260128T175140Z
LAST-MODIFIED:20260128T175140Z
UID:10007747-1776510000-1776531600@cruisnmedia.com
SUMMARY:AMSO CAR SHOW
DESCRIPTION:Ferris State AMSO presents our 2026 car show! This is the biggest car show of the year in Big Rapids! All makes and Models are welcome!\nGeneral admission is free!Car show registration is $5 for students and $10 for non-students.The event will be held in lot 19\, which is the lot behind McDonalds.\nThis family-friendly event will include amazing cars\, vendors\, food trucks\, games\, a 50/50 raffle\, music\, trophies and so much more. This is an event you won’t want to miss! More details to come\n\nFor more information\, contact 224-806-0804
URL:https://cruisnmedia.com/events-calendar/amso-car-show/
LOCATION:Ferris State University Lot 19\, 515 Clark St\, Big Rapids\, MI
END:VEVENT
BEGIN:VEVENT
DTSTART;TZID=America/Detroit:20260418T090000
DTEND;TZID=America/Detroit:20260418T170000
DTSTAMP:20260419T115408
CREATED:20260202T160106Z
LAST-MODIFIED:20260202T160106Z
UID:10007828-1776502800-1776531600@cruisnmedia.com
SUMMARY:National Mustang Day Celebration
DESCRIPTION:National Mustang Day Celebration. Let’s get them out of winter storage and ready for car season with this amazing car season opener! You don’t want to miss it… More details coming soon….
URL:https://cruisnmedia.com/events-calendar/national-mustang-day-celebration/
LOCATION:MI
ATTACH;FMTTYPE=image/jpeg:https://cruisnmedia.com/wp-content/uploads/2026/02/619991393_10243062705530469_786053844985538489_n.jpg
END:VEVENT
BEGIN:VEVENT
DTSTART;TZID=America/Detroit:20260418T070000
DTEND;TZID=America/Detroit:20260418T100000
DTSTAMP:20260419T115408
CREATED:20260410T144225Z
LAST-MODIFIED:20260410T144225Z
UID:10009096-1776495600-1776506400@cruisnmedia.com
SUMMARY:Parking at Pasteiners
DESCRIPTION:For more information\, contact (248) 646-2886
URL:https://cruisnmedia.com/events-calendar/parking-at-pasteiners/2026-04-18/
LOCATION:Pasteiner’s\, 33202 Woodward\, Birmingham\, MI\, 48009
ATTACH;FMTTYPE=image/jpeg:https://cruisnmedia.com/wp-content/uploads/2026/04/IMG_1072.jpg
END:VEVENT
BEGIN:VEVENT
DTSTART;TZID=America/Detroit:20260417T160000
DTEND;TZID=America/Detroit:20260417T200000
DTSTAMP:20260419T115408
CREATED:20260324T195157Z
LAST-MODIFIED:20260413T182037Z
UID:10009425-1776441600-1776456000@cruisnmedia.com
SUMMARY:Pharoahs of Michigan Cruise Night
DESCRIPTION:
URL:https://cruisnmedia.com/events-calendar/pharoahs-of-michigan/2026-04-17/
LOCATION:Sibley and Fort Street\, Riverview\, MI
ATTACH;FMTTYPE=image/jpeg:https://cruisnmedia.com/wp-content/uploads/2026/03/FB_IMG_1775909084080.jpg
END:VEVENT
BEGIN:VEVENT
DTSTART;TZID=America/Detroit:20260412T070000
DTEND;TZID=America/Detroit:20260412T150000
DTSTAMP:20260419T115408
CREATED:20251215T151800Z
LAST-MODIFIED:20251215T151800Z
UID:10007699-1775977200-1776006000@cruisnmedia.com
SUMMARY:Monroe Auto Swap Meet
DESCRIPTION:For more information\, visit https://www.monroeautoswapmeet.net/events
URL:https://cruisnmedia.com/events-calendar/monroe-auto-swap-meet/
LOCATION:Monroe County Fairgrounds\, 3775 S Custer Road\, Monroe\, MI\, 48161\, United States
ATTACH;FMTTYPE=image/png:https://cruisnmedia.com/wp-content/uploads/2025/12/Screenshot-2025-12-15-101632.png
END:VEVENT
BEGIN:VEVENT
DTSTART;TZID=America/Detroit:20260411T090000
DTEND;TZID=America/Detroit:20260411T120000
DTSTAMP:20260419T115408
CREATED:20260316T192255Z
LAST-MODIFIED:20260316T192255Z
UID:10008233-1775898000-1775908800@cruisnmedia.com
SUMMARY:ECC Cars & Coffee
DESCRIPTION:April 11\, 2026 – Season Opener\nApril 25\, 2026\nMay 23\, 2026\nJune 13\, 2026 – Flag Day Weekend (each participant receives an American Flag lapel pin)\nJuly 4\, 2026 – July 4th Bash (details coming soon)\nJuly 11\, 2026 – Northville Concours d’Elegance Collaboration Event\nAugust 8\, 2026 – Dream Cruise Kickoff\nSeptember 12\, 2026 – Porsche Premier\, celebrating the birthday of the Porsche 911\nOctober 10\, 2026\nOctober 31\, 2026 – Trunk or Treat\nNovember 14\, 2026 – Season Closer\nFor more information\, visit https://www.exoticcarconnections.com/cars-coffee
URL:https://cruisnmedia.com/events-calendar/ecc-cars-coffee-2/2026-04-11/
LOCATION:ECC Cars and Coffee\, 15701 Technology Dr\, Northville\, MI\, United States
END:VEVENT
BEGIN:VEVENT
DTSTART;TZID=America/Detroit:20260411T083000
DTEND;TZID=America/Detroit:20260411T230000
DTSTAMP:20260419T115408
CREATED:20260409T195843Z
LAST-MODIFIED:20260409T195843Z
UID:10009070-1775896200-1775948400@cruisnmedia.com
SUMMARY:Woodside Bible Cars & Coffee
DESCRIPTION:
URL:https://cruisnmedia.com/events-calendar/woodside-bible-cars-coffee/2026-04-11/
LOCATION:Woodside Bible Church\, 148 Maple Grove Rd\, Lapeer\, MI
ATTACH;FMTTYPE=image/jpeg:https://cruisnmedia.com/wp-content/uploads/2026/04/661157315_122266507406185296_2677086895915931609_n.jpg
END:VEVENT
BEGIN:VEVENT
DTSTART;TZID=America/Detroit:20260411T070000
DTEND;TZID=America/Detroit:20260411T100000
DTSTAMP:20260419T115408
CREATED:20260410T144225Z
LAST-MODIFIED:20260410T144225Z
UID:10009095-1775890800-1775901600@cruisnmedia.com
SUMMARY:Parking at Pasteiners
DESCRIPTION:For more information\, contact (248) 646-2886
URL:https://cruisnmedia.com/events-calendar/parking-at-pasteiners/2026-04-11/
LOCATION:Pasteiner’s\, 33202 Woodward\, Birmingham\, MI\, 48009
ATTACH;FMTTYPE=image/jpeg:https://cruisnmedia.com/wp-content/uploads/2026/04/IMG_1072.jpg
END:VEVENT
BEGIN:VEVENT
DTSTART;TZID=America/Detroit:20260328T090000
DTEND;TZID=America/Detroit:20260328T120000
DTSTAMP:20260419T115408
CREATED:20260318T201106Z
LAST-MODIFIED:20260318T201106Z
UID:10008402-1774688400-1774699200@cruisnmedia.com
SUMMARY:Caffeine and Chrome
DESCRIPTION:For more information\, visit https://www.gatewayclassiccars.com/caffeine-and-chrome?srsltid=AfmBOopzeVk_FaUIdsAQpAkNlFDcp2qkKfKbhAsZOvc_r3JIFhiek93z
URL:https://cruisnmedia.com/events-calendar/caffeine-and-chrome/2026-03-28/
LOCATION:Gateway Classic Cars\, 15011 S. Commerce Dr\, Dearborn\, MI\, 48120\, United States
CATEGORIES:Cars & Coffee
END:VEVENT
BEGIN:VEVENT
DTSTART;TZID=America/Detroit:20260322T080000
DTEND;TZID=America/Detroit:20260322T140000
DTSTAMP:20260419T115408
CREATED:20251117T155750Z
LAST-MODIFIED:20251117T155750Z
UID:10007654-1774166400-1774188000@cruisnmedia.com
SUMMARY:East Side A's 54th Annual Swap Meet
DESCRIPTION:NEW LOCATION at the Packard Proving Grounds event building. Admission $5. Tables $30. For info : Lou Ironside (810) 798-8803
URL:https://cruisnmedia.com/events-calendar/east-side-as-54th-annual-swap-meet/
LOCATION:Packard Proving Grounds\, 49965 Van Dyke Ave\, Shelby Township\, MI\, 48317\, United States
END:VEVENT
BEGIN:VEVENT
DTSTART;TZID=America/Detroit:20260315T100000
DTEND;TZID=America/Detroit:20260315T180000
DTSTAMP:20260419T115408
CREATED:20251215T144416Z
LAST-MODIFIED:20251215T144416Z
UID:10007688-1773568800-1773597600@cruisnmedia.com
SUMMARY:Cincinnati Cavalcade of Customs
DESCRIPTION:For more information\, visit https://autorama.com/attend/cincinnati/
URL:https://cruisnmedia.com/events-calendar/cincinnati-cavalcade-of-customs/2026-03-15/
LOCATION:Duke Energy Convention Center\, 525 Elm Street\, Cincinnati\, OH
END:VEVENT
BEGIN:VEVENT
DTSTART;TZID=America/Detroit:20260314T100000
DTEND;TZID=America/Detroit:20260314T210000
DTSTAMP:20260419T115408
CREATED:20251215T144416Z
LAST-MODIFIED:20251215T144416Z
UID:10007687-1773482400-1773522000@cruisnmedia.com
SUMMARY:Cincinnati Cavalcade of Customs
DESCRIPTION:For more information\, visit https://autorama.com/attend/cincinnati/
URL:https://cruisnmedia.com/events-calendar/cincinnati-cavalcade-of-customs/2026-03-14/
LOCATION:Duke Energy Convention Center\, 525 Elm Street\, Cincinnati\, OH
END:VEVENT
BEGIN:VEVENT
DTSTART;TZID=America/Detroit:20260313T150000
DTEND;TZID=America/Detroit:20260313T210000
DTSTAMP:20260419T115408
CREATED:20251215T144416Z
LAST-MODIFIED:20251215T144416Z
UID:10007686-1773414000-1773435600@cruisnmedia.com
SUMMARY:Cincinnati Cavalcade of Customs
DESCRIPTION:For more information\, visit https://autorama.com/attend/cincinnati/
URL:https://cruisnmedia.com/events-calendar/cincinnati-cavalcade-of-customs/2026-03-13/
LOCATION:Duke Energy Convention Center\, 525 Elm Street\, Cincinnati\, OH
END:VEVENT
BEGIN:VEVENT
DTSTART;TZID=America/Detroit:20260308T100000
DTEND;TZID=America/Detroit:20260308T180000
DTSTAMP:20260419T115408
CREATED:20251212T220258Z
LAST-MODIFIED:20251212T220258Z
UID:10007685-1772964000-1772992800@cruisnmedia.com
SUMMARY:Chicago World of Wheels
DESCRIPTION:For more information\, visit https://autorama.com/attend/chicago/
URL:https://cruisnmedia.com/events-calendar/chicago-world-of-wheels/2026-03-08/
LOCATION:Donald E. Stephens Convention Center\, 5555 N River Road\, Rosemont\, IL\, 60018\, United States
END:VEVENT
BEGIN:VEVENT
DTSTART;TZID=America/Detroit:20260308T080000
DTEND;TZID=America/Detroit:20260308T130000
DTSTAMP:20260419T115408
CREATED:20260126T195352Z
LAST-MODIFIED:20260126T195352Z
UID:10007739-1772956800-1772974800@cruisnmedia.com
SUMMARY:43rd Annual All Ford Swap Meet
DESCRIPTION:For more information\, contact 586-596-2105
URL:https://cruisnmedia.com/events-calendar/43rd-annual-all-ford-swap-meet/
LOCATION:Gorno Ford\, 22025 Allen Rd\, Woodhaven\, MI\, United States
ATTACH;FMTTYPE=image/jpeg:https://cruisnmedia.com/wp-content/uploads/2026/01/616324731_10233356285469327_4250666435929703754_n.jpg
END:VEVENT
BEGIN:VEVENT
DTSTART;TZID=America/Detroit:20260307T100000
DTEND;TZID=America/Detroit:20260307T220000
DTSTAMP:20260419T115408
CREATED:20251212T220258Z
LAST-MODIFIED:20251212T220258Z
UID:10007684-1772877600-1772920800@cruisnmedia.com
SUMMARY:Chicago World of Wheels
DESCRIPTION:For more information\, visit https://autorama.com/attend/chicago/
URL:https://cruisnmedia.com/events-calendar/chicago-world-of-wheels/2026-03-07/
LOCATION:Donald E. Stephens Convention Center\, 5555 N River Road\, Rosemont\, IL\, 60018\, United States
END:VEVENT
BEGIN:VEVENT
DTSTART;TZID=America/Detroit:20260306T150000
DTEND;TZID=America/Detroit:20260306T220000
DTSTAMP:20260419T115408
CREATED:20251212T220258Z
LAST-MODIFIED:20251212T220258Z
UID:10007683-1772809200-1772834400@cruisnmedia.com
SUMMARY:Chicago World of Wheels
DESCRIPTION:For more information\, visit https://autorama.com/attend/chicago/
URL:https://cruisnmedia.com/events-calendar/chicago-world-of-wheels/2026-03-06/
LOCATION:Donald E. Stephens Convention Center\, 5555 N River Road\, Rosemont\, IL\, 60018\, United States
END:VEVENT
BEGIN:VEVENT
DTSTART;TZID=America/Detroit:20260301T110000
DTEND;TZID=America/Detroit:20260301T190000
DTSTAMP:20260419T115408
CREATED:20251215T150215Z
LAST-MODIFIED:20251215T150215Z
UID:10007698-1772362800-1772391600@cruisnmedia.com
SUMMARY:Cleveland Auto Show
DESCRIPTION:For more information\, please visit https://clevelandautoshow.com/
URL:https://cruisnmedia.com/events-calendar/cleveland-auto-show/2026-03-01/
LOCATION:I-X Center\, 1 I-X Center Dr\, Cleveland\, OH\, 44135\, United States
END:VEVENT
BEGIN:VEVENT
DTSTART;TZID=America/Detroit:20260301T080000
DTEND;TZID=America/Detroit:20260301T170000
DTSTAMP:20260419T115408
CREATED:20250930T170005Z
LAST-MODIFIED:20250930T170005Z
UID:10007629-1772352000-1772384400@cruisnmedia.com
SUMMARY:73rd Annual Detroit Autorama
DESCRIPTION:For more information\, visit https://autorama.com/attend/detroit/
URL:https://cruisnmedia.com/events-calendar/73rd-annual-detroit-autorama/2026-03-01/
LOCATION:Huntington Place / Cobo Center\, 1 Washington Blvd\, Detroit\, MI\, 48226\, United States
ATTACH;FMTTYPE=image/png:https://cruisnmedia.com/wp-content/uploads/2025/09/Screenshot-2025-09-30-125930.png
END:VEVENT
BEGIN:VEVENT
DTSTART;TZID=America/Detroit:20260228T110000
DTEND;TZID=America/Detroit:20260228T210000
DTSTAMP:20260419T115408
CREATED:20251215T150215Z
LAST-MODIFIED:20251215T150215Z
UID:10007697-1772276400-1772312400@cruisnmedia.com
SUMMARY:Cleveland Auto Show
DESCRIPTION:For more information\, please visit https://clevelandautoshow.com/
URL:https://cruisnmedia.com/events-calendar/cleveland-auto-show/2026-02-28/
LOCATION:I-X Center\, 1 I-X Center Dr\, Cleveland\, OH\, 44135\, United States
END:VEVENT
BEGIN:VEVENT
DTSTART;TZID=America/Detroit:20260228T090000
DTEND;TZID=America/Detroit:20260228T150000
DTSTAMP:20260419T115408
CREATED:20260128T191527Z
LAST-MODIFIED:20260128T191527Z
UID:10007774-1772269200-1772290800@cruisnmedia.com
SUMMARY:Winter Classic Mopar Swap Meet
DESCRIPTION:HERE’S THE DETAILS: \nRegistration is open\, and now is the time to reserve your spaces! \nSHOW HOURS: \nSaturday 9 am – 3 pm \nEvent held snow or shine. \nSPECTATOR ADMISSION: \n$10.00 (9:00am-1:00pm). \n$15.00 for anyone in attendance during Friday check-in or Saturday before 9:00am. \nFREE ADMISSION for all after 1:00pm. \nSpecial Needs and Children under 12 always free. \nON-SITE REGISTRATION HOURS: \nFriday: Noon-5:00pm\, Saturday: 7:00am-9:00am. \nPARTICIPANT ADMISSION: \nIndoor Swap Meet: $50.00 10’x20′. \nMidway: Premium main aisle spots for non-automotive commercial vendors. Must be reserved in advance. 10’x10′ $100.00. \nEntries include one (1) adult admission per space. \n8′ Table Rentals: $10.00 each. \nAdditional Helper: $15.00 each. \nDIRECTIONS: \nOhio Expo Center & State Fair\, 717 E. 17th Ave.\, Columbus\, OH 43211 \nTake I-71 to exit #111 \n  \nFor more information\, visithttps://www.jeffjohnsonmotorsports.com/chryslerregistration.php
URL:https://cruisnmedia.com/events-calendar/winter-classic-mopar-swap-meet-2/
LOCATION:Ohio Expo Center and State Fair\, 717 E 17th Ave\, Columbus\, OH\, United States
ATTACH;FMTTYPE=image/png:https://cruisnmedia.com/wp-content/uploads/2026/01/Screenshot-2026-01-28-141224.png
END:VEVENT
BEGIN:VEVENT
DTSTART;TZID=America/Detroit:20260228T090000
DTEND;TZID=America/Detroit:20260228T150000
DTSTAMP:20260419T115408
CREATED:20251212T195312Z
LAST-MODIFIED:20251212T195312Z
UID:10007676-1772269200-1772290800@cruisnmedia.com
SUMMARY:Winter Classic Mopar Swap Meet
DESCRIPTION:Winter Classic Mopar Swap Meet\nFebruary 28\, 2026\nOhio Expo Center\, Rhodes Building\nColumbus\, Ohio \n  \n31st Annual All Mopar Swap Meet and Car Corral -shop for parts & accessories for all Chrysler products!\nChrysler Classic Racer Reunion – past event videos\, practice tree competition\, food\, beverages and prizes!\nSnow or shine!\nDirections: 717 E. 17th Ave.\, 43211. Take I-71 just north of downtown Columbus to 17th Avenue (exit #111).\nShow Hours: Saturday 9:00am-3:00pm.\nVendor Check-in/Set up: Friday. Noon-5:00pm\, Saturday: 7:00am-9am. No Saturday drive-in unloading.\nSpectator Admission: Early bird $15.00 (8:00am-9:00am); $10.00 (9:00am-1:00pm). FREE ADMISSION FOR ALL AFTER 1:00pm. Special Needs and Children under 12 always free.\nParticipant Admission:\nRegister in advance online or at the door.\nIndoor Swap Meet or Car Corral: $50.00 10’x20’\nCar Corral and Swap Meet entry includes one (1) adult admission per space.\nMidway: Premium main aisle spots for non-automotive commercial vendors. Must be reserved in advance. 10’x10’ $100.00.\nCommercial entry includes two (2) adult admissions per space.\n8’ Table Rentals $15.00 each.\nAdditional Helper: $15.00 each. Required for ANYONE in attendance during Friday check-in or Saturday before 9:00am.\n614-268-1181\nInfo: www.jeffjohnsonmotorsports.com\nTo register: https://www.jeffjohnsonmotorsports.com/chryslerregistration.php\nFacebook: JeffJohnsonMotorsports
URL:https://cruisnmedia.com/events-calendar/winter-classic-mopar-swap-meet/
LOCATION:Ohio Expo Center and State Fair\, 717 E 17th Ave\, Columbus\, OH\, United States
ATTACH;FMTTYPE=image/jpeg:https://cruisnmedia.com/wp-content/uploads/2025/12/MailerWCfront26.jpg
END:VEVENT
BEGIN:VEVENT
DTSTART;TZID=America/Detroit:20260228T080000
DTEND;TZID=America/Detroit:20260228T170000
DTSTAMP:20260419T115408
CREATED:20250930T170005Z
LAST-MODIFIED:20250930T170005Z
UID:10007628-1772265600-1772298000@cruisnmedia.com
SUMMARY:73rd Annual Detroit Autorama
DESCRIPTION:For more information\, visit https://autorama.com/attend/detroit/
URL:https://cruisnmedia.com/events-calendar/73rd-annual-detroit-autorama/2026-02-28/
LOCATION:Huntington Place / Cobo Center\, 1 Washington Blvd\, Detroit\, MI\, 48226\, United States
ATTACH;FMTTYPE=image/png:https://cruisnmedia.com/wp-content/uploads/2025/09/Screenshot-2025-09-30-125930.png
END:VEVENT
BEGIN:VEVENT
DTSTART;TZID=America/Detroit:20260227T110000
DTEND;TZID=America/Detroit:20260227T210000
DTSTAMP:20260419T115408
CREATED:20251215T150215Z
LAST-MODIFIED:20251215T150215Z
UID:10007696-1772190000-1772226000@cruisnmedia.com
SUMMARY:Cleveland Auto Show
DESCRIPTION:For more information\, please visit https://clevelandautoshow.com/
URL:https://cruisnmedia.com/events-calendar/cleveland-auto-show/2026-02-27/
LOCATION:I-X Center\, 1 I-X Center Dr\, Cleveland\, OH\, 44135\, United States
END:VEVENT
BEGIN:VEVENT
DTSTART;TZID=America/Detroit:20260227T080000
DTEND;TZID=America/Detroit:20260227T170000
DTSTAMP:20260419T115408
CREATED:20250930T170005Z
LAST-MODIFIED:20250930T170005Z
UID:10007627-1772179200-1772211600@cruisnmedia.com
SUMMARY:73rd Annual Detroit Autorama
DESCRIPTION:For more information\, visit https://autorama.com/attend/detroit/
URL:https://cruisnmedia.com/events-calendar/73rd-annual-detroit-autorama/2026-02-27/
LOCATION:Huntington Place / Cobo Center\, 1 Washington Blvd\, Detroit\, MI\, 48226\, United States
ATTACH;FMTTYPE=image/png:https://cruisnmedia.com/wp-content/uploads/2025/09/Screenshot-2025-09-30-125930.png
END:VEVENT
BEGIN:VEVENT
DTSTART;TZID=America/Detroit:20260226T110000
DTEND;TZID=America/Detroit:20260226T200000
DTSTAMP:20260419T115408
CREATED:20251215T150215Z
LAST-MODIFIED:20251215T150215Z
UID:10007695-1772103600-1772136000@cruisnmedia.com
SUMMARY:Cleveland Auto Show
DESCRIPTION:For more information\, please visit https://clevelandautoshow.com/
URL:https://cruisnmedia.com/events-calendar/cleveland-auto-show/2026-02-26/
LOCATION:I-X Center\, 1 I-X Center Dr\, Cleveland\, OH\, 44135\, United States
END:VEVENT
BEGIN:VEVENT
DTSTART;TZID=America/Detroit:20260225T110000
DTEND;TZID=America/Detroit:20260225T200000
DTSTAMP:20260419T115408
CREATED:20251215T150215Z
LAST-MODIFIED:20251215T150215Z
UID:10007694-1772017200-1772049600@cruisnmedia.com
SUMMARY:Cleveland Auto Show
DESCRIPTION:For more information\, please visit https://clevelandautoshow.com/
URL:https://cruisnmedia.com/events-calendar/cleveland-auto-show/2026-02-25/
LOCATION:I-X Center\, 1 I-X Center Dr\, Cleveland\, OH\, 44135\, United States
END:VEVENT
END:VCALENDAR